Workbook

Sheet RKP DESA
C1: RANCANGAN RENCANA KERJA PEMERINTAH DESA (RKP DESA)
C2: TAHUN : 2020
C3: DESA | E3: :SEKARTAJI | K3: KABUPATEN | M3: : KLUNGKUNG
C4: KECAMATAN | E4: :NUSA PENIDA | K4: PROVINSI | M4: : BALI
C5: No. | D5: Bidang / Jenis Kegiatan | G5: Lokasi | H5: Volume | I5: Sasaran / Manfaat | J5: Waktu | K5: Biaya dan Sumber | M5: Pola Pelaksanaan | P5: Rencana Pelaksanaan Kegiatan
K6: Pembiayaan
D7: Bidang | F7: Jenis Kegiatan | J7: Pelaksanaan | K7: Jumlah (RP) | L7: Sumber | M7: Swa. | N7: Kerja sama antar desa | O7: Kerja sama pihak ketiga
C9: a | D9: b | E9: c | F9: d | G9: e | H9: f | I9: g | J9: h | K9: i | L9: j | M9: k | N9: l | O9: m | P9: n
C10: 1 | D10: ='Pagu indikatif'!D8 -> PENYELENGGARAAN PEMERINTAHAN DESA | E10: 1 | F10: ='DAFTAR USULAN'!E10 -> Penyelenggaraan Belanja Siltap, Tunjangan dan Operasional Pemerintahan Desa | K10: =SUM(K11:K16) -> 9.028288e+08
E11: 1.1 | F11: ='DAFTAR USULAN'!F11 -> Penyediaan Penghasilan Tetap & Tunjangan Perbekel | G11: Ds. Sekartaji | H11: ='DAFTAR USULAN'!I11 -> 1 Orang | I11: ='DAFTAR USULAN'!J11 -> Terbayarnya siltap dan tunjangan Perbekel | J11: 1 thn | K11: ='DAFTAR USULAN'!L11 -> 63600000 | L11: ADD | M11: Swa. | P11: Jan s/d Des
E12: 1.2 | F12: ='DAFTAR USULAN'!F12 -> Penyediaan Penghasilan Tetap & Tunjangan Perangkat Desa | G12: Ds. Sekartaji | H12: ='DAFTAR USULAN'!I12 -> 13 Orang | I12: ='DAFTAR USULAN'!J12 -> Terbayarnya siltap dan tunjangan perangkat desa | J12: 1 thn | K12: ='DAFTAR USULAN'!L12 -> 514000000 | L12: ADD | M12: Swa. | P12: =P11 -> Jan s/d Des
E13: 1.3 | F13: ='DAFTAR USULAN'!F13 -> Penyediaan Jaminan Sosial Perbekel dan Perangkat Desa | G13: Ds. Sekartaji | H13: 14 Orang | I13: ='DAFTAR USULAN'!J13 -> terbayarnya jaminan sosial perbekel dan perangkat desa | J13: 1 thn | K13: ='DAFTAR USULAN'!L13 -> 36166221 | L13: ADD | M13: Swa. | P13: =P12 -> Jan s/d Des
E14: 1.4 | F14: ='DAFTAR USULAN'!F14 -> Penyediaan Operasional Pemerintah Desa (ATK,Honor PKPKD dan PPKD dll)) | G14: Ds. Sekartaji | H14: ='DAFTAR USULAN'!I14 -> 1 paket | I14: ='DAFTAR USULAN'!J14 -> Lancarnya keg. Operasional kantor | J14: 1 thn | K14: ='DAFTAR USULAN'!L14 -> 2.3509758e+08 | L14: ADD | M14: Swa. | P14: Jan.s/d Des
E15: 1.5 | F15: ='DAFTAR USULAN'!F15 -> Penyediaan Tunjangan BPD | G15: Ds. Sekartaji | H15: ='DAFTAR USULAN'!I15 -> 7 Orang | I15: ='DAFTAR USULAN'!J15 -> terbayarnya tunjangan kedudukan BPD | J15: 1 thn | K15: ='DAFTAR USULAN'!L15 -> 20400000 | L15: ADD | M15: Swa. | P15: =P14 -> Jan.s/d Des
E16: 1.6 | F16: ='DAFTAR USULAN'!F16 -> Penyediaan Operasional BPD (rapat,ATK,makan minum,pakaian seragam, listrik dll) | G16: Ds. Sekartaji | H16: ='DAFTAR USULAN'!I16 -> 7 Orang | I16: ='DAFTAR USULAN'!J16 -> Lancarnya keg. Operasional BPD | J16: 1 thn | K16: ='DAFTAR USULAN'!L16 -> 33565000 | L16: ADD | M16: Swa. | P16: =P15 -> Jan.s/d Des
E17: 2 | F17: ='DAFTAR USULAN'!E17 -> Penyediaan Sarana dan Prasarana Pemerintahan Desa | K17: =SUM(K18:K19) -> 23588000
E18: 2.1 | F18: ='DAFTAR USULAN'!F18 -> Penyediaan Sarana (Aset Tetap) Perkantoran/Pemerintahan | G18: Ds. Sekartaji | H18: ='DAFTAR USULAN'!I18 -> 1 paket | I18: ='DAFTAR USULAN'!J18 -> Tersedianya sarana perkantoran | J18: ='DAFTAR USULAN'!K19 -> 1 thn | K18: ='DAFTAR USULAN'!L18 -> 5988000 | L18: ADD | M18: Swa. | P18: Jan.s/d Des
E19: 2.2 | F19: ='DAFTAR USULAN'!F19 -> Pemeliharaan Gedung/Prasarana Kantor Desa | G19: Ds. Sekartaji | H19: ='DAFTAR USULAN'!I19 -> 1 paket | I19: ='DAFTAR USULAN'!J19 -> Tersedianya sarana perkantoran | J19: ='DAFTAR USULAN'!K19 -> 1 thn | K19: ='Pagu indikatif'!G18 -> 17600000 | L19: ADD | M19: Swa. | P19: =P18 -> Jan.s/d Des
E20: 3 | F20: ='Pagu indikatif'!D19 -> Pengelolaan Administrasi Kependudukan, Pencatatan Sipil, Statistik dan Kearsipan | K20: =K21 -> 3702000
E21: 3.1 | F21: ='Pagu indikatif'!E20 -> Penyusunan, Pendataan, dan Pemutakhiran Profil Desa | G21: Ds. Sekartaji | H21: ='DAFTAR USULAN'!I21 -> 1 paket | I21: ='DAFTAR USULAN'!J21 -> Lancarnya keg. Pemutahiran profil desa | J21: ='DAFTAR USULAN'!K21 -> 1 thn | K21: ='RABSUB.1'!O197 -> 3702000 | L21: ADD | M21: Swa. | P21: =P19 -> Jan.s/d Des
E22: 4 | F22: ='Pagu indikatif'!D21 -> Penyelenggaraan Tata Praja Pemerintahan,Perencanaan,Keuangan dan Pelaporan | K22: =SUM(K23:K27) -> 74512000
E23: 4.1 | F23: ='Pagu indikatif'!E22 -> Penyelenggaraan Musyawarah Perencanaan Desa/Pembahasan APBDES (Reguler) | G23: Ds. Sekartaji | H23: ='DAFTAR USULAN'!I23 -> 1 paket | I23: ='DAFTAR USULAN'!J23 -> Lancarnya keg. Musyawarah desa reguler | J23: ='DAFTAR USULAN'!K23 -> 1 thn | K23: ='RABSUB.1'!O211 -> 12540000 | L23: ADD | M23: Swa. | P23: =P21 -> Jan.s/d Des
E24: 4.2 | F24: ='Pagu indikatif'!E23 -> Penyusunan Dokumen Perencanaan Desa (RPJM Desa/RKP Desa Dll) | G24: Ds. Sekartaji | H24: ='DAFTAR USULAN'!I24 -> 1 paket | I24: ='DAFTAR USULAN'!J24 -> Lancarnya keg. Penyusunan RPJMDesa/RKP Desa | J24: ='DAFTAR USULAN'!K24 -> 6 bln | K24: ='DAFTAR USULAN'!L24 -> 4389000 | L24: ADD | M24: Swa. | P24: Juli s/d Des
E25: 4.3 | F25: ='Pagu indikatif'!E24 -> Penyusunan Dokumen Keuangan Desa(APBDes,APBDes Perubahan, LPJ dll) | G25: Ds. Sekartaji | H25: ='DAFTAR USULAN'!I25 -> 1 paket | I25: ='DAFTAR USULAN'!J25 -> Lancarnya keg. Penyusunan Dokumen Keuangan | J25: ='DAFTAR USULAN'!K25 -> 1 thn | K25: ='DAFTAR USULAN'!L25 -> 3539000 | L25: ADD | M25: Swa. | P25: =P23 -> Jan.s/d Des
E26: 4.4 | F26: ='Pagu indikatif'!E25 -> Penyusunan Laporan Kepala Desa, LPPDesa dan Informasi Kepada masyarakat | G26: Ds. Sekartaji | H26: ='DAFTAR USULAN'!I26 -> 1 paket | I26: ='DAFTAR USULAN'!J26 -> Lancarnya penyusunan laporan kepala desa,LPPDesa | J26: ='DAFTAR USULAN'!K26 -> 1 thn | K26: ='DAFTAR USULAN'!L26 -> 3689000 | L26: ADD | M26: Swa. | P26: Jan.s/d Des
E27: 4.5 | F27: ='Pagu indikatif'!E26 -> Dukungan dan Sosialisasi Pelaksanaan Pilkades, Pemilihan Ka Kewilayahan & BPD | G27: Ds. Sekartaji | H27: 1 paket | I27: Lancarnya sosialisasi dan pilkel | J27: 6 bln | K27: ='Pagu indikatif'!G26 -> 50355000 | L27: ADD | M27: Swa. | P27: Jan.s/d Des
I28: SUB JUMLAH BIDANG 1 | K28: =K10+K17+K20+K22 -> 1.0046308e+09
C29: 2 | D29: ='Pagu indikatif'!D28 -> BIDANG PEMBANGUNAN | E29: 1 | F29: ='Pagu indikatif'!D29 -> Sub Bidang Pendidikan | K29: =SUM(K30:K30) -> 27070000
E30: 1.1 | F30: ='DAFTAR USULAN'!F31 -> Penyelenggaraan PAUD/TK/TKA/TPQ/Madrasah Non Formal Milik Desa | G30: Ds. Sekartaji | H30: ='DAFTAR USULAN'!I31 -> 1 Paket | I30: ='DAFTAR USULAN'!J31 -> Terslenggaranya Pendidikan Anak PAUD | J30: 1 thn | K30: ='DAFTAR USULAN'!L31 -> 27070000 | L30: DDS | M30: Swa. | P30: Jan.s/d Des
E31: 1.2 | F31: ='DAFTAR USULAN'!F32 -> Dukungan Pendidikan bagi Siswa Miskin/Berprestasi
E32: 2 | F32: ='Pagu indikatif'!D32 -> Sub Bidang Kesehatan | K32: =SUM(K33:K37) -> 322283200
E33: 2.1 | F33: ='Pagu indikatif'!E33 -> Penyelenggaraan Pos Kesehatan Desa/Polides Milik Desa (Obat,Insentif,KB,dst) | G33: ='DAFTAR USULAN'!H34 -> Setiap dusun | H33: ='DAFTAR USULAN'!I34 -> 1 paket | I33: ='DAFTAR USULAN'!J34 -> Terslenggaranya Pemeriksaan Jentik Nyamuk & kelancaran Administrasi | J33: ='DAFTAR USULAN'!K34 -> 12 bln | K33: ='DAFTAR USULAN'!L34 -> 14150000 | L33: DDS | M33: Swa. | P33: Jan.s/d Des
E34: 2.2 | F34: ='Pagu indikatif'!E34 -> Penyelenggaraan Posyandu (Mkn Tambahan,Kls Bumil,Lansia,Insentif | G34: Ds. Sekartaji | H34: ='DAFTAR USULAN'!H35 -> Setiap dusun | I34: ='DAFTAR USULAN'!J35 -> Terslenggaranya pencegahan Stanting,Kesehatan Lansia dan Balita | J34: ='DAFTAR USULAN'!K35 -> 10 bln | K34: ='DAFTAR USULAN'!L35 -> 175868600 | L34: DDS | M34: Swa. | P34: Mei.s/d Jul
E35: 2.3 | F35: ='DAFTAR USULAN'!F36 -> Penyelenggaraan Desa Siaga Kesehatan | G35: ='DAFTAR USULAN'!H36 -> Setiap dusun | H35: ='DAFTAR USULAN'!I36 -> 1 paket | I35: ='DAFTAR USULAN'!J36 -> Terslenggarnya Pendataan kesehatan warga. | J35: ='DAFTAR USULAN'!K36 -> 12 bln | K35: ='DAFTAR USULAN'!L36 -> 113400000 | L35: DDS,ADD,BHP | M35: Swa. | P35: Jan s/d Des
E36: 2.4 | F36: ='DAFTAR USULAN'!F37 -> Pengasuhan Bersama atau Bina Keluarga Balita (BKB)
E37: 2.5 | F37: ='Pagu indikatif'!E37 -> Pembangunan/Rehabilitasi/Peningkatan/Pengadaan Sarana/Prasarana Alat Posyandu | G37: ='DAFTAR USULAN'!H38 -> Setiap dusun | H37: ='DAFTAR USULAN'!I38 -> 3 paket | I37: ='DAFTAR USULAN'!J38 -> Peralatan kesehatan Posyandu/Polindes/PKD | J37: ='DAFTAR USULAN'!K38 -> 1 bln | K37: ='DAFTAR USULAN'!L38 -> 18864600 | L37: DDS | M37: Swa. | P37: 1 s/d 28 Pebruari
E38: 2.6 | F38: ='Pagu indikatif'!E38 -> Penyelenggaraan Bina Keluarga Lansia (BKL)
E39: 3 | F39: ='DAFTAR USULAN'!E40 -> Sub bidang Pekerjaan Umum dan Penataan Ruang | K39: =SUM(K40:K44) -> 160544000
E40: 3.1 | F40: ='DAFTAR USULAN'!F41 -> Kelanjutan Pembangunan/Rehabilitasi/Peningkatan Balai Desa/Balai Kemasyarakatan | G40: ='DAFTAR USULAN'!H41 -> Dsn. Sekartaji | H40: ='DAFTAR USULAN'!I41 -> 12 m x 22 m | I40: ='DAFTAR USULAN'!J41 -> Memperlancar terslenggaranya tempat pertemuan Masyarakat | J40: ='DAFTAR USULAN'!K41 -> 6 bln | K40: ='DAFTAR USULAN'!L41 -> 160544000 | L40: ADD,PBH,DLL | M40: Swa. | P40: Juli s/d Nop
E41: 3.2 | F41: ='DAFTAR USULAN'!F42 -> Pembangunan /Rehabilitasi /Peningkatan/Pengerasan Jalan Lingkungan Pemukiman Dsn Sekartaji | G41: ='DAFTAR USULAN'!H42 -> Dsn. Sekartaji | H41: ='DAFTAR USULAN'!I42 -> 1 paket | I41: ='DAFTAR USULAN'!J42 -> memperlancar arus transportasi jalan | J41: ='DAFTAR USULAN'!K42 -> 5 bln | K41: 0 | M41: Swa.
E42: 3.3 | F42: ='DAFTAR USULAN'!F43 -> Pembangunan /Rehabilitasi /Peningkatan/Pengerasan Jalan Menuju Pura Dalem dan tempat parkir Pantai Nyanyad | G42: ='DAFTAR USULAN'!H43 -> Dsn.Sedehing | H42: ='DAFTAR USULAN'!I43 -> 1 paket | I42: ='DAFTAR USULAN'!J43 -> memperlancar arus transportasi jalan | J42: ='DAFTAR USULAN'!K43 -> 5 bln | K42: 0 | M42: Swa.
E43: 3.4 | F43: ='DAFTAR USULAN'!F44 -> Pembangunan /Rehabilitasi /Peningkatan/Pengerasan Jalan Lingkungan Pemukiman Dsn Ramuan | G43: ='DAFTAR USULAN'!H44 -> Dsn. Ramuan | H43: ='DAFTAR USULAN'!I44 -> 1 paket | I43: ='DAFTAR USULAN'!J44 -> memperlancar arus transportasi jalan | J43: ='DAFTAR USULAN'!K44 -> 5 bln | K43: 0 | M43: Swa.
E44: 3.5 | F44: ='DAFTAR USULAN'!F45 -> Pembangunan/Rehabilitasi/Peningkatan Pemakaman Milik Desa/Situs Bersejarah Milik Desa/Petilasan | G44: ='DAFTAR USULAN'!H45 -> Setiap dusun | H44: ='DAFTAR USULAN'!I45 -> 1 paket | I44: ='DAFTAR USULAN'!J45 -> Peningkatan kenyamanan dan Kebersihan pada saat kegiatan Upacara | J44: ='DAFTAR USULAN'!K45 -> 6 bln | K44: 0 | M44: Swa.
E45: 3.6 | F45: ='DAFTAR USULAN'!F46 -> Pembangunan /Rehabilitasi /Peningkatan Monumen/Gapura/Batas Desa | G45: ='DAFTAR USULAN'!H46 -> perbatasan dg Desa Tetangga | H45: ='DAFTAR USULAN'!I46 -> 1 paket | I45: ='DAFTAR USULAN'!J46 -> Terwujudnya batas Desa Yang pasti | J45: ='DAFTAR USULAN'!K46 -> 1 bln | K45: 0 | M45: Swa.
E46: 4 | F46: ='DAFTAR USULAN'!E47 -> Sub Bidang Kawasan Pemukiman | K46: =SUM(K47:K48) -> 875390670
E47: 4.1 | F47: ='DAFTAR USULAN'!F49 -> Pemeliharaan Fasilitas Pengelolaan Sampah Desa (Penampungan, Bank Sampah dll) | G47: ='DAFTAR USULAN'!H49 -> Setiap dusun | H47: ='DAFTAR USULAN'!I49 -> 1 paket | I47: ='DAFTAR USULAN'!J49 -> Terlaksananya Pengelolaan Sampah | J47: ='DAFTAR USULAN'!K49 -> 2 bln | K47: ='DAFTAR USULAN'!L49 -> 4080000 | L47: DDS | M47: Swa. | P47: Juli
E48: 4.2 | F48: ='DAFTAR USULAN'!F50 -> Pembangunan/Rehabilitasi/Peningkatan Sumber Air Bersih Milik Desa | G48: ='DAFTAR USULAN'!H50 -> Dsn. Bungkil | H48: ='DAFTAR USULAN'!I50 -> 1 paket | I48: ='DAFTAR USULAN'!J50 -> Terslenggarnya penanggulangan kekurangan air | J48: ='DAFTAR USULAN'!K50 -> 6 bln | K48: ='DAFTAR USULAN'!L50 -> 871310670 | L48: DDS | M48: Swa. | P48: Juli s/d Des
E49: 5 | F49: ='DAFTAR USULAN'!E51 -> Sub Bidang perhubungan, Komunikasi, dan Informatika | K49: =K50 -> 2000000
E50: 5.1 | F50: ='DAFTAR USULAN'!F52 -> Belanja Bendera/Umbul-umbul/Spanduk | G50: ='DAFTAR USULAN'!H52 -> Ds. Sekartaji | H50: ='DAFTAR USULAN'!I52 -> 20 lbr | I50: ='DAFTAR USULAN'!J52 -> Terslenggarnya ke transparanan pengelolaan keuangan Desa | J50: ='DAFTAR USULAN'!K52 -> 12 bln | K50: ='DAFTAR USULAN'!L52 -> 2000000 | L50: DDS | M50: Swa. | P50: Jan s/d Des
I51: SUB JUMLAH BIDANG 2 | K51: =K29+K32+K39+K46+K49 -> 1387287870
C52: 3 | D52: ='Pagu indikatif'!D52 -> BIDANG PEMBINAAN KEMASYARAKATAN | E52: 1 | F52: ='DAFTAR USULAN'!D55 -> Sub Bidang Ketentraman, Ketertiban Umum & Perlindungan Masyarakat | K52: =K53 -> 17400000
E53: 1.1 | F53: ='DAFTAR USULAN'!E56 -> Koordinasi Pembinaan Keamanan, Ketertiban & Perlindungan Masyarakat skala lokal desa | G53: ='DAFTAR USULAN'!H56 -> Ds. Sekartaji | H53: ='DAFTAR USULAN'!I56 -> 1 paket | I53: ='DAFTAR USULAN'!J56 -> Terwujudnya keamanan dan kebersihan lingkungan di setiap dusun | J53: ='DAFTAR USULAN'!K56 -> 12 bln | K53: ='DAFTAR USULAN'!L56 -> 17400000 | L53: PAD,BHP | M53: Swa. | P53: Jan s/d Des
E54: 2 | F54: ='DAFTAR USULAN'!D57 -> Sub Bidang Kebudayaan & Keagamaan | K54: =SUM(K55:K56) -> 161313500
E55: 2.1 | F55: ='DAFTAR USULAN'!E58 -> Pengiriman Kontingen Grup Kesenian & Kebudayaan (Wakil Desa tkt Kec/Kab/Kot | G55: ='DAFTAR USULAN'!H58 -> di Kecamatan | H55: ='DAFTAR USULAN'!I58 -> 1 paket | I55: Berpartisipasi dalam pertunjukan ogoh-ogoh | J55: ='DAFTAR USULAN'!K58 -> 1 bulan | K55: ='DAFTAR USULAN'!L58 -> 60989000 | L55: ADD | M55: Swa. | P55: Maret
E56: 2.2 | F56: ='DAFTAR USULAN'!E60 -> Penyelenggaraan Festival Kesenian, Adat/kebudayaan, dan Keagamaan (Hut RI,Raya Keagamaan dll) | G56: ='DAFTAR USULAN'!H60 -> di Kecamatan | H56: ='DAFTAR USULAN'!I60 -> 1 paket | I56: ='DAFTAR USULAN'!J60 -> Terselenggaranya festival kesenianan dan adat budaya | J56: ='DAFTAR USULAN'!K60 -> 1 bulan | K56: ='DAFTAR USULAN'!L60 -> 100324500 | L56: ADD,PBK | M56: Swa. | P56: Juli
E57: 3. | F57: ='DAFTAR USULAN'!D68 -> Sub Bidang Kepemudaan dan Olahraga | K57: =SUM(K58:K60) -> 42770000
E58: 3.1 | F58: ='DAFTAR USULAN'!E69 -> Penyelenggaraan Pelatihan Kepemudaan Tingkat Desa | G58: ='DAFTAR USULAN'!H69 -> Ds. Sekartaji | H58: ='DAFTAR USULAN'!I69 -> 20 Orang | I58: ='DAFTAR USULAN'!J69 -> dapat meningkatkan kemampuan pemuda dibidang seni | J58: ='DAFTAR USULAN'!K69 -> 3 bln | K58: ='DAFTAR USULAN'!L69 -> 14750000 | L58: ADD | M58: Swa. | P58: Mei s/d Agu
E59: 3.2 | F59: ='DAFTAR USULAN'!E71 -> Penyelenggaraan Festival/Lomba Kepemudaan & Olahraga Tingkat Desa | G59: ='DAFTAR USULAN'!H71 -> Ds. Sekartaji | H59: ='DAFTAR USULAN'!I71 -> 200 orang | I59: ='DAFTAR USULAN'!J71 -> terciptanya rasa persaudaraan sesama pemuda desa | J59: ='DAFTAR USULAN'!K71 -> 14 hari | K59: ='DAFTAR USULAN'!L72 -> 28020000 | L59: ADD | M59: Swa. | P59: Juni
E60: 3.3 | F60: ='DAFTAR USULAN'!E73 -> Pembangunan/Rehabilitasi/Peningkatan Saran dan Prasarana Kepemudaan dan Olahraga Milik Desa | G60: ='DAFTAR USULAN'!H73 -> Dsn. Sekartaji | H60: ='DAFTAR USULAN'!I73 -> 80 orang | I60: ='DAFTAR USULAN'!J73 -> Terbangunnya Lapangan Voly | J60: ='DAFTAR USULAN'!K73 -> 3 bln | K60: ='DAFTAR USULAN'!L73 -> 0 | M60: Swa.
E61: 4 | F61: ='DAFTAR USULAN'!D74 -> Sub Bidang Kelembagaan Masyarakat | K61: =SUM(K62:K64) -> 87265000
E62: 4.1 | F62: ='DAFTAR USULAN'!E75 -> Kegiatan Pembinaan Lembaga Adat | G62: ='DAFTAR USULAN'!H75 -> Setiap Desa Pakraman | H62: ='DAFTAR USULAN'!I75 -> 3 Paket | I62: ='DAFTAR USULAN'!J75 -> terwujudnya rasa hormat kepada tokoh agama | J62: ='DAFTAR USULAN'!K75 -> 1 thn | K62: ='SUB.3, 4'!L196 -> 52000000 | L62: PBK | M62: Swa. | P62: Jan s/d Des
E63: 4.2 | F63: ='DAFTAR USULAN'!E76 -> Kegiatan Pembinaan LPM | G63: ='DAFTAR USULAN'!H76 -> Ds. Sekartaji | H63: ='DAFTAR USULAN'!I76 -> 1 paket | I63: ='DAFTAR USULAN'!J76 -> peningkatan kemampuan lembaga desa | J63: ='DAFTAR USULAN'!K76 -> 1 bln | K63: ='SUB.3, 4'!L207 -> 14415000 | L63: PBH | M63: Swa. | P63: Nopember
E64: 4.3 | F64: ='DAFTAR USULAN'!E77 -> Kegiatan Pembinaan Organisasi Perempuan/PKK | G64: ='DAFTAR USULAN'!H77 -> Ds. Sekartaji | H64: ='DAFTAR USULAN'!I77 -> 1 paket | I64: ='DAFTAR USULAN'!J77 -> peningkatan kemampuan PKK | J64: ='DAFTAR USULAN'!K77 -> 1 bln | K64: ='SUB.3, 4'!L224 -> 20850000 | L64: ADD | M64: Swa. | P64: Nopember
I65: JUMLAH BIDANG 3 | K65: =K61+K57+K54+K52 -> 308748500
C66: 4 | D66: ='DAFTAR USULAN'!C79 -> BIDANG PEMBERDAYAAN MASYARAKAT | E66: 1 | F66: ='DAFTAR USULAN'!D80 -> Sub Bidang Pemberdayaan Perempuan, Perlindungan Anak dan keluarga | K66: =K67 -> 5048000
E67: 1.1 | F67: ='DAFTAR USULAN'!E81 -> Kegiatan Pelatihan dan penyuluhan Pemberdayaan Perempuan | G67: ='DAFTAR USULAN'!H81 -> Ds.Sekartaji | H67: ='DAFTAR USULAN'!I81 -> 40 orang | I67: ='DAFTAR USULAN'!J81 -> meningkatkan kapasitas PKK | J67: ='DAFTAR USULAN'!K81 -> 2 hari | K67: ='DAFTAR USULAN'!L81 -> 5048000 | L67: DLL | M67: Swa. | P67: Okt
E68: 2 | F68: ='DAFTAR USULAN'!D82 -> Sub Bidang Pertanian dan Peternakan
E69: 2.1 | F69: ='DAFTAR USULAN'!E83 -> Peningkatan Produksi Tanaman Pangan (alat/produksi/pengelolaan/penggilingan)
E70: 2.2 | F70: ='DAFTAR USULAN'!E84 -> Pelatihan/Bintek/Pengenalan tentang Pertanian/Peternakan
E71: 3 | F71: ='DAFTAR USULAN'!D85 -> Sub Bidang Dukungan Penanaman Modal
E72: 3.1 | F72: ='DAFTAR USULAN'!E86 -> Lain-lain Kegiatan Sub Bidang Dukungan Penanaman Modal
I73: SUB JUMLAH BIDANG 4 | K73: =K66 -> 5048000
C74: 5 | D74: Bidang Tak Terduga | E74: 1 | F74: ='SUB.3, 4'!C362 -> Sub Bidang Keadaan Mendesak | K74: =K75 -> 144000000
E75: 1.1 | F75: ='SUB.3, 4'!C363 -> Kegiatan penanganan keadaan mendesak | G75: Ds. Sekartaji | H75: 33 Orang | I75: Memberikan BLT kepada Masyarakat | J75: ='DAFTAR USULAN'!K89 -> 1 thn | K75: ='SUB.3, 4'!L363 -> 144000000 | L75: DDS | M75: Swa. | P75: Jan s/d Des
I76: JUMLAH BIDANG. 5 | K76: =K74 -> 144000000
J77: JUMLAH TOTAL = 1 + 2 + 3 + 4 + 5 | K77: =K28+K51+K65+K73+K76 -> 2.8497152e+09
C80: Mengetahui : | K80: Sekartaji , 28 September 2020
C81: Perbekel Desa Sekartaji | K81: Disusun oleh :
K82: Tim Penyusun RKP Desa
C86: I MADE CARMA | K86: I KETUT PASTURI
J89: *

Sheet DAFTAR USULAN
B1: DAFTAR USULAN RKP DESA
B2: KEGIATAN TAHUN : 2020
B3: DESA | G3: : SEKARTAJI | J3: KABUPATEN | K3: : KLUNGKUNG
B4: KECAMATAN | G4: : NUSA PENIDA | J4: PROVINSI | K4: : BALI
B5: No | C5: Bidang / Jenis Kegiatan | H5: Lokasi | I5: Vol. | J5: Sasaran /Manfaat | K5: Prakiraan Waktu Pelaksanaan | L5: Prakiraan Biaya dan Jumlah RP.
C7: Bidang | D7: Jenis Kegiatan
B9: 1 | C9: ='RABSUB.1'!D5 -> PENYELENGGARAAN PEMERINTAHAN DESA | L9: =L10+L17+L20+L22 -> 1.0046308e+09
D10: a | E10: ='RABSUB.1'!E6 -> Penyelenggaraan Belanja Siltap, Tunjangan dan Operasional Pemerintahan Desa | L10: =SUM(L11:L16) -> 9.028288e+08
E11: 1 | F11: ='RABSUB.1'!E7 -> Penyediaan Penghasilan Tetap & Tunjangan Perbekel | H11: Ds. Sekartaji | I11: 1 Orang | J11: Terbayarnya siltap dan tunjangan Perbekel | K11: 1 thn | L11: ='RABSUB.1'!O7 -> 63600000
E12: 2 | F12: ='RABSUB.1'!E16 -> Penyediaan Penghasilan Tetap & Tunjangan Perangkat Desa | H12: Ds. Sekartaji | I12: 13 Orang | J12: Terbayarnya siltap dan tunjangan perangkat desa | K12: 1 thn | L12: ='RABSUB.1'!O16 -> 514000000
E13: 3 | F13: ='RABSUB.1'!E34 -> Penyediaan Jaminan Sosial Perbekel dan Perangkat Desa | H13: Ds. Sekartaji | I13: 14 Orang | J13: terbayarnya jaminan sosial perbekel dan perangkat desa | K13: 1 thn | L13: ='RABSUB.1'!O34 -> 36166221
E14: 4 | F14: ='RABSUB.1'!E49 -> Penyediaan Operasional Pemerintah Desa (ATK,Honor PKPKD dan PPKD dll)) | H14: Ds. Sekartaji | I14: 1 paket | J14: Lancarnya keg. Operasional kantor | K14: 1 thn | L14: ='RABSUB.1'!O49 -> 2.3509758e+08
E15: 5 | F15: ='RABSUB.1'!E156 -> Penyediaan Tunjangan BPD | H15: Ds. Sekartaji | I15: 7 Orang | J15: terbayarnya tunjangan kedudukan BPD | K15: 1 thn | L15: ='RABSUB.1'!O156 -> 20400000
E16: 6 | F16: ='RABSUB.1'!E162 -> Penyediaan Operasional BPD (rapat,ATK,makan minum,pakaian seragam, listrik dll) | H16: Ds. Sekartaji | I16: 7 Orang | J16: Lancarnya keg. Operasional BPD | K16: 1 thn | L16: ='RABSUB.1'!O162 -> 33565000
D17: b | E17: ='RABSUB.1'!E184 -> Penyediaan Sarana dan Prasarana Pemerintahan Desa | L17: =SUM(L18:L19) -> 23588000
E18: 1 | F18: ='RABSUB.1'!E185 -> Penyediaan Sarana (Aset Tetap) Perkantoran/Pemerintahan | H18: Ds. Sekartaji | I18: 1 paket | J18: Tersedianya sarana perkantoran | K18: 1 thn | L18: ='RABSUB.1'!O185 -> 5988000
E19: 2 | F19: ='RABSUB.1'!E189 -> Pemeliharaan Gedung/Prasarana Kantor Desa | H19: Ds. Sekartaji | I19: 1 paket | J19: Tersedianya sarana perkantoran | K19: 1 thn | L19: ='RABSUB.1'!O189 -> 17600000
D20: c | E20: ='RABSUB.1'!E197 -> Pengelolaan Administrasi Kependudukan, Pencatatan Sipil, Statistik dan Kearsipan | L20: =L21 -> 3702000
E21: 1 | F21: ='RABSUB.1'!E198 -> Penyusunan, Pendataan, dan Pemutakhiran Profil Desa | H21: Ds. Sekartaji | I21: 1 paket | J21: Lancarnya keg. Pemutahiran profil desa | K21: 1 thn | L21: ='RABSUB.1'!O198 -> 3702000
D22: d | E22: ='RABSUB.1'!E210 -> Penyelenggaraan Tata Praja Pemerintahan,Perencanaan,Keuangan dan Pelaporan | L22: =SUM(L23:L27) -> 74512000
E23: 1 | F23: ='RABSUB.1'!E211 -> Penyelenggaraan Musyawarah Perencanaan Desa/Pembahasan APBDES (Reguler) | H23: Ds. Sekartaji | I23: 1 paket | J23: Lancarnya keg. Musyawarah desa reguler | K23: 1 thn | L23: ='RABSUB.1'!O211 -> 12540000
E24: 2 | F24: ='RABSUB.1'!E222 -> Penyusunan Dokumen Perencanaan Desa (RPJM Desa/RKP Desa Dll) | H24: Ds. Sekartaji | I24: 1 paket | J24: Lancarnya keg. Penyusunan RPJMDesa/RKP Desa | K24: 6 bln | L24: ='RABSUB.1'!O222 -> 4389000
E25: 3 | F25: ='RABSUB.1'!E241 -> Penyusunan Dokumen Keuangan Desa(APBDes,APBDes Perubahan, LPJ dll) | H25: Ds. Sekartaji | I25: 1 paket | J25: Lancarnya keg. Penyusunan Dokumen Keuangan | K25: 1 thn | L25: ='RABSUB.1'!O241 -> 3539000
E26: 4 | F26: ='RABSUB.1'!E252 -> Penyusunan Laporan Kepala Desa, LPPDesa dan Informasi Kepada masyarakat | H26: Ds. Sekartaji | I26: 1 paket | J26: Lancarnya penyusunan laporan kepala desa,LPPDesa | K26: 1 thn | L26: ='RABSUB.1'!O252 -> 3689000
E27: 5 | F27: ='RABSUB.1'!E264 -> Dukungan dan Sosialisasi Pelaksanaan Pilkades, Pemilihan Ka Kewilayahan & BPD | H27: Ds. Sekartaji | I27: 1 paket | J27: Lancarnya sosialisasi dan pilkel | K27: 6 bln | L27: ='RABSUB.1'!O264 -> 50355000
B28: SUB JUMLAH. 1 | L28: =L22+L20+L17+L10 -> 1.0046308e+09
B29: 2 | C29: =sub.2!C5 -> BIDANG PELAKSANAAN PEMBANGUNAN DESA | L29: =L53 -> 1387287870
D30: a | E30: =sub.2!D6 -> Sub Bidang Pendidikan | L30: =L31 -> 27070000
E31: 1 | F31: =sub.2!D7 -> Penyelenggaraan PAUD/TK/TKA/TPQ/Madrasah Non Formal Milik Desa | H31: Ds. Sekartaji | I31: 1 Paket | J31: Terslenggaranya Pendidikan Anak PAUD | K31: 1 thn | L31: =sub.2!N7 -> 27070000
E32: 2 | F32: Dukungan Pendidikan bagi Siswa Miskin/Berprestasi
D33: b | E33: =sub.2!D38 -> Sub Bidang Kesehatan | L33: =SUM(L34:L38) -> 322283200
E34: 1 | F34: =sub.2!D39 -> Penyelenggaraan Pos Kesehatan Desa/Polides Milik Desa (Obat,Insentif,KB,dst) | H34: Setiap dusun | I34: 1 paket | J34: Terslenggaranya Pemeriksaan Jentik Nyamuk & kelancaran Administrasi | K34: 12 bln | L34: =sub.2!N39 -> 14150000
E35: 2 | F35: =sub.2!D52 -> Penyelenggaraan Posyandu (Mkn Tambahan,Kls Bumil,Lansia,Insentif | H35: Setiap dusun | I35: 1 paket | J35: Terslenggaranya pencegahan Stanting,Kesehatan Lansia dan Balita | K35: 10 bln | L35: =sub.2!N52 -> 175868600
E36: 3 | F36: =sub.2!D73 -> Penyelenggaraan Desa Siaga Kesehatan | H36: Setiap dusun | I36: 1 paket | J36: Terslenggarnya Pendataan kesehatan warga. | K36: 12 bln | L36: =sub.2!N73 -> 113400000
E37: 4 | F37: Pengasuhan Bersama atau Bina Keluarga Balita (BKB)
E38: 5 | F38: =sub.2!D91 -> Pembangunan/Rehabilitasi/Peningkatan/Pengadaan Sarana/Prasarana Alat Posyandu | H38: Setiap dusun | I38: 3 paket | J38: Peralatan kesehatan Posyandu/Polindes/PKD | K38: 1 bln | L38: =sub.2!N91 -> 18864600
E39: 6 | F39: Penyelenggaraan Bina Keluarga Lansia (BKL)
D40: c | E40: =sub.2!D100 -> Sub bidang Pekerjaan Umum dan Penataan Ruang | L40: =L41 -> 160544000
E41: 1 | F41: =sub.2!D101 -> Kelanjutan Pembangunan/Rehabilitasi/Peningkatan Balai Desa/Balai Kemasyarakatan | H41: Dsn. Sekartaji | I41: 12 m x 22 m | J41: Memperlancar terslenggaranya tempat pertemuan Masyarakat | K41: 6 bln | L41: =sub.2!N101 -> 160544000
E42: 2 | F42: Pembangunan /Rehabilitasi /Peningkatan/Pengerasan Jalan Lingkungan Pemukiman Dsn Sekartaji | H42: Dsn. Sekartaji | I42: 1 paket | J42: memperlancar arus transportasi jalan | K42: 5 bln
E43: 3 | F43: Pembangunan /Rehabilitasi /Peningkatan/Pengerasan Jalan Menuju Pura Dalem dan tempat parkir Pantai Nyanyad | H43: Dsn.Sedehing | I43: 1 paket | J43: memperlancar arus transportasi jalan | K43: 5 bln
E44: 4 | F44: Pembangunan /Rehabilitasi /Peningkatan/Pengerasan Jalan Lingkungan Pemukiman Dsn Ramuan | H44: Dsn. Ramuan | I44: 1 paket | J44: memperlancar arus transportasi jalan | K44: 5 bln
E45: 5 | F45: Pembangunan/Rehabilitasi/Peningkatan Pemakaman Milik Desa/Situs Bersejarah Milik Desa/Petilasan | H45: Setiap dusun | I45: 1 paket | J45: Peningkatan kenyamanan dan Kebersihan pada saat kegiatan Upacara | K45: 6 bln
E46: 6 | F46: Pembangunan /Rehabilitasi /Peningkatan Monumen/Gapura/Batas Desa | H46: perbatasan dg Desa Tetangga | I46: 1 paket | J46: Terwujudnya batas Desa Yang pasti | K46: 1 bln
D47: d | E47: =sub.2!D123 -> Sub Bidang Kawasan Pemukiman | L47: =SUM(L49:L50) -> 875390670
E48: 1 | F48: Dukungan Pelaksanaan Program Pembangunan/Rehab Rumah Tidak Layak Huni GAKIN
E49: 2 | F49: =sub.2!D124 -> Pemeliharaan Fasilitas Pengelolaan Sampah Desa (Penampungan, Bank Sampah dll) | H49: Setiap dusun | I49: 1 paket | J49: Terlaksananya Pengelolaan Sampah | K49: 2 bln | L49: =sub.2!N124 -> 4080000
E50: 3 | F50: =sub.2!D139 -> Pembangunan/Rehabilitasi/Peningkatan Sumber Air Bersih Milik Desa | H50: Dsn. Bungkil | I50: 1 paket | J50: Terslenggarnya penanggulangan kekurangan air | K50: 6 bln | L50: =sub.2!N139 -> 871310670
D51: e | E51: =sub.2!D176 -> Sub Bidang perhubungan, Komunikasi, dan Informatika | L51: =L52 -> 2000000
E52: 1 | F52: =sub.2!D178 -> Belanja Bendera/Umbul-umbul/Spanduk | H52: Ds. Sekartaji | I52: 20 lbr | J52: Terslenggarnya ke transparanan pengelolaan keuangan Desa | K52: 12 bln | L52: =sub.2!N177 -> 2000000
B53: SUB JUMLAH. 2 | L53: =L51+L47+L40+L33+L30 -> 1387287870
B54: 3 | C54: ='SUB.3, 4'!B5 -> BIDANG PEMBINAAN KEMASYARAKATAN | L54: =L55+L57+L68+L74 -> 308748500
C55: a | D55: ='SUB.3, 4'!C6 -> Sub Bidang Ketentraman, Ketertiban Umum & Perlindungan Masyarakat | L55: =L56 -> 17400000
D56: 1 | E56: ='SUB.3, 4'!C7 -> Koordinasi Pembinaan Keamanan, Ketertiban & Perlindungan Masyarakat skala lokal desa | H56: Ds. Sekartaji | I56: 1 paket | J56: Terwujudnya keamanan dan kebersihan lingkungan di setiap dusun | K56: 12 bln | L56: ='SUB.3, 4'!L7 -> 17400000
C57: b | D57: ='SUB.3, 4'!C15 -> Sub Bidang Kebudayaan & Keagamaan | L57: =L58+L60 -> 161313500
D58: 1 | E58: ='SUB.3, 4'!C16 -> Pengiriman Kontingen Grup Kesenian & Kebudayaan (Wakil Desa tkt Kec/Kab/Kot | H58: di Kecamatan | I58: 1 paket | J58: pelestarian seni dan budaya di kalangan pemuda desa | K58: 1 bulan | L58: ='SUB.3, 4'!L16 -> 60989000
E59: 1.1 | F59: ='SUB.3, 4'!C17 -> Lomba Parade Ogoh-ogoh dan Baleganjur | H59: di Kecamatan | I59: 1 paket | J59: pelestarian seni dan budaya di kalangan pemuda desa | K59: 1 bulan | L59: ='SUB.3, 4'!L17 -> 60989000
D60: 2 | E60: ='SUB.3, 4'!C64 -> Penyelenggaraan Festival Kesenian, Adat/kebudayaan, dan Keagamaan (Hut RI,Raya Keagamaan dll) | H60: di Kecamatan | I60: 1 paket | J60: Terselenggaranya festival kesenianan dan adat budaya | K60: 1 bulan | L60: =SUM(L61:L67) -> 100324500
E61: 2.1 | F61: ='SUB.3, 4'!C65 -> Kegiatan 17 Agustusan | H61: di Kecamatan | I61: 1 paket | J61: terslenggaranya peringatan hari besar nasional | K61: 10 hari | L61: ='SUB.3, 4'!K65 -> 20513000
E62: 2.2 | F62: ='SUB.3, 4'!C90 -> Menyabut Hari Ulang Tahun Provinsi Bali | H62: Ds. Sekartaji | I62: 1 paket | J62: Terselenggaranya peringatan Hari Ulang tahun Provinsi Bali | K62: 2 hari | L62: ='SUB.3, 4'!K90 -> 9125000
E63: 2.3 | F63: ='SUB.3, 4'!C111 -> Kegiatan Upacara Piodal di Kantor Perbekel | H63: Ds. Sekartaji | I63: 1 paket | J63: terwujudnya pendekatan diri terhadap Tuhan Yang Maha Esa | K63: 1 hari | L63: ='SUB.3, 4'!K111 -> 9599000
E64: 2.4 | F64: ='SUB.3, 4'!C123 -> Kegiatan Upacara Piodal Dp. Tri WEW | H64: Desa Adat Tri WEW | I64: 1 Paket | J64: terslenggaranya peringatan hari suci keagamaan | K64: 4 hari | L64: ='SUB.3, 4'!K123 -> 15000000
E65: 2.5 | F65: ='SUB.3, 4'!C126 -> Kegiatan Upacara Piodal Dp. Kerta Parisuda | H65: Desa Adat Kerta Parisuda | I65: 1 Paket | J65: terslenggaranya peringatan hari suci keagamaan | K65: 4 hari | L65: ='SUB.3, 4'!K126 -> 15000000
E66: 2.6 | F66: ='SUB.3, 4'!C129 -> Kegiatan Upacara Piodal Dp. Sekartaji | H66: Desa Adat Sekartaji | I66: 1 Paket | J66: terslenggaranya peringatan hari suci keagamaan | K66: 4 hari | L66: ='SUB.3, 4'!K129 -> 15000000
E67: 2.7 | F67: ='SUB.3, 4'!C132 -> Kegiatan Festival Nusa Penida | H67: di Kecamatan | I67: 1 paket | J67: pelestarian seni dan budaya di kalangan pemuda desa | K67: 1 bln | L67: ='SUB.3, 4'!K132 -> 16087500
C68: c | D68: ='SUB.3, 4'!C141 -> Sub Bidang Kepemudaan dan Olahraga | L68: =L69+L71+L73 -> 42770000
D69: 1 | E69: ='SUB.3, 4'!C142 -> Penyelenggaraan Pelatihan Kepemudaan Tingkat Desa | H69: Ds. Sekartaji | I69: 20 Orang | J69: dapat meningkatkan kemampuan pemuda dibidang seni | K69: 3 bln | L69: ='SUB.3, 4'!L142 -> 14750000
E70: 1.1 | F70: ='SUB.3, 4'!C143 -> Kegiatan Pelatihan Gong Pemuda | H70: Ds. Sekartaji | I70: 20 Orang | J70: dapat meningkatkan kemampuan pemuda dibidang seni | K70: 3 bln | L70: ='SUB.3, 4'!K143 -> 14750000
D71: 2 | E71: ='SUB.3, 4'!C150 -> Penyelenggaraan Festival/Lomba Kepemudaan & Olahraga Tingkat Desa | H71: Ds. Sekartaji | I71: 200 orang | J71: terciptanya rasa persaudaraan sesama pemuda desa | K71: 14 hari | L71: ='SUB.3, 4'!L150 -> 28020000
E72: 2.1 | F72: ='SUB.3, 4'!C151 -> Kegiatan Pordes tahun 2020 | H72: Ds. Sekartaji | I72: 200 orang | J72: terciptanya rasa persaudaraan sesama pemuda desa | K72: 14 hari | L72: =L71 -> 28020000
D73: 3 | E73: ='[1]SUB.3, 4'!C194 -> Pembangunan/Rehabilitasi/Peningkatan Saran dan Prasarana Kepemudaan dan Olahraga Milik Desa | H73: Dsn. Sekartaji | I73: 80 orang | J73: Terbangunnya Lapangan Voly | K73: 3 bln
C74: d | D74: ='SUB.3, 4'!C195 -> Sub Bidang Kelembagaan Masyarakat | L74: =SUM(L75:L77) -> 87265000
D75: 1 | E75: ='SUB.3, 4'!C196 -> Kegiatan Pembinaan Lembaga Adat | H75: Setiap Desa Pakraman | I75: 3 Paket | J75: terwujudnya rasa hormat kepada tokoh agama | K75: 1 thn | L75: ='SUB.3, 4'!L196 -> 52000000
D76: 2 | E76: ='SUB.3, 4'!C207 -> Kegiatan Pembinaan LPM | H76: Ds. Sekartaji | I76: 1 paket | J76: peningkatan kemampuan lembaga desa | K76: 1 bln | L76: ='SUB.3, 4'!L207 -> 14415000
D77: 3 | E77: ='SUB.3, 4'!C224 -> Kegiatan Pembinaan Organisasi Perempuan/PKK | H77: Ds. Sekartaji | I77: 1 paket | J77: peningkatan kemampuan PKK | K77: 1 bln | L77: ='SUB.3, 4'!L224 -> 20850000
B78: SUB JUMLAH. 3 | L78: =L54 -> 308748500
B79: 4 | C79: ='SUB.3, 4'!B277 -> BIDANG PEMBERDAYAAN MASYARAKAT | L79: =L80 -> 5048000
C80: a | D80: ='SUB.3, 4'!C278 -> Sub Bidang Pemberdayaan Perempuan, Perlindungan Anak dan keluarga | L80: =SUM(L81:L81) -> 5048000
D81: 1 | E81: ='SUB.3, 4'!C279 -> Kegiatan Pelatihan dan penyuluhan Pemberdayaan Perempuan | H81: Ds.Sekartaji | I81: 40 orang | J81: meningkatkan kapasitas PKK | K81: 2 hari | L81: ='SUB.3, 4'!L277 -> 5048000
C82: b | D82: Sub Bidang Pertanian dan Peternakan
D83: 1 | E83: Peningkatan Produksi Tanaman Pangan (alat/produksi/pengelolaan/penggilingan)
D84: 2 | E84: Pelatihan/Bintek/Pengenalan tentang Pertanian/Peternakan
C85: c | D85: Sub Bidang Dukungan Penanaman Modal
D86: 1 | E86: Lain-lain Kegiatan Sub Bidang Dukungan Penanaman Modal
B87: SUB JUMLAH. 4 | L87: ='SUB.3, 4'!L292 -> 5048000
B88: 5 | C88: Bidang Tak Terduga | L88: =L89 -> 144000000
D89: a | E89: ='SUB.3, 4'!C362 -> Sub Bidang Keadaan Mendesak | H89: Ds. Sekartaji | I89: 33 orang | J89: lancarnya pemberian BLT | K89: 1 thn | L89: =L90 -> 144000000
E90: 1 | F90: ='SUB.3, 4'!C363 -> Kegiatan penanganan keadaan mendesak | H90: Ds. Sekartaji | I90: 33 orang | J90: lancarnya pemberian BLT | K90: 1 thn | L90: ='SUB.3, 4'!L363 -> 144000000
B91: SUB JUMLAH. 5 | L91: =L88 -> 144000000
B92: JUMLAH TOTAL = 1 + 2+ 3 + 4 + 5 | L92: =L91+L87+L78+L53+L28 -> 2.8497152e+09
C94: Mengetahui | I94: Sekartaji, 28 September 2020
C95: Perbekel Desa Sekartaji | I95: Ketua Tim Penyusun RKP Desa
C99: I MADE CARMA | I99: I KETUT PASTURI

Sheet SUB.3, 4
A1: RENCANA ANGGARAN BIAYA BIDANG PEMBINAAN KEMASYARAKATAN
A2: DESA SEKARTAJI
A3: No. | E3: Uraian Kebutuhan | G3: Sumber | H3: Volume | I3: Satuan | J3: Harga RP. | L3: Pagu dana
G4: Dana | J4: Satuan | K4: Jumlah
A5: 3 | B5: BIDANG PEMBINAAN KEMASYARAKATAN | L5: =L6+L15+L141+L195 -> 308748500
B6: a. | C6: Sub Bidang Ketentraman, Ketertiban Umum & Perlindungan Masyarakat | L6: =L7 -> 17400000
B7: 1 | C7: Koordinasi Pembinaan Keamanan, Ketertiban & Perlindungan Masyarakat skala lokal desa | L7: =K8+K12 -> 17400000
B8: 5.2.1.06. | C8: Belanja Barang Konsumsi (makan/Minum) | K8: =SUM(K9:K11) -> 8400000 | M8: =K8+K13 -> 10500000
D9: 1 | E9: Nasi Keg. Ronda Kebersihan Lingkungan | G9: PAD | H9: 360 | I9: bks | J9: 15000 | K9: =H9*J9 -> 5400000
D10: 2 | E10: Snak Keg. Ronda Kebersihan Lingkungan | G10: PAD | H10: 360 | I10: bks | J10: 5000 | K10: =H10*J10 -> 1800000
D11: 3 | E11: Air Mineral Gelas Keg. Ronda | G11: PAD | H11: 24 | I11: dus | J11: 50000 | K11: =H11*J11 -> 1200000
B12: 5.2.1.09. | C12: Belanja Pakaian Kerja Lapangan/Olahraga | K12: =SUM(K13:K14) -> 9000000
D13: 1 | E13: Sepatu Linmas | G13: PAD | H13: 7 | I13: psng | J13: 300000 | K13: =H13*J13 -> 2100000
D14: 2 | E14: Sepatu Linmas | G14: BHP | H14: 23 | I14: psng | J14: 300000 | K14: =H14*J14 -> 6900000
B15: b | C15: Sub Bidang Kebudayaan & Keagamaan | L15: =L16+L64 -> 161313500
B16: 1 | C16: Pengiriman Kontingen Grup Kesenian & Kebudayaan (Wakil Desa tkt Kec/Kab/Kot | L16: =L17 -> 60989000
C17: Lomba Parade Ogoh-ogoh dan Baleganjur | L17: =K18+K27+K43+K46+K49+K56+K58+K60 -> 60989000
B18: 5.2.1.06. | C18: Belanja Barang Konsumsi (makan/Minum) | K18: =SUM(K19:K26) -> 19800000
D19: 1 | E19: Nasi kegiatan pembuatan ogoh-ogoh | G19: ADD | H19: 150 | I19: bks | J19: 15000 | K19: =H19*J19 -> 2250000
D20: 2 | E20: Snek kegiatan pembuatan ogoh-ogoh | G20: ADD | H20: 150 | I20: ktk | J20: 5000 | K20: =H20*J20 -> 750000
D21: 3 | E21: Air mineral gelas kegiatan pembuatan ogoh-ogoh | G21: ADD | H21: 20 | I21: dus | J21: 50000 | K21: =H21*J21 -> 1000000
D22: 4 | E22: Nasi pelatihan gong persiapan pawai ogoh-ogoh | G22: ADD | H22: 770 | I22: bks | J22: 15000 | K22: =H22*J22 -> 11550000
D23: 5 | E23: Snek kegiatan pelatihan gong persiapan ogoh-ogoh | G23: ADD | H23: 350 | I23: ktk | J23: 5000 | K23: =H23*J23 -> 1750000
D24: 6 | E24: Air mineral gelas kegiatan persiapan pawai ogoh-ogoh | G24: ADD | H24: 10 | I24: dus | J24: 50000 | K24: =H24*J24 -> 500000
D25: 7 | E25: Nasi hari kegiatan pawai ogoh-ogoh | G25: ADD | H25: 100 | I25: bks | J25: 15000 | K25: =H25*J25 -> 1500000
D26: 8 | E26: Air mineral gelas kegiatan hari pawai ogoh-ogoh | G26: ADD | H26: 10 | I26: dus | J26: 50000 | K26: =H26*J26 -> 500000
B27: 5.2.1.07. | C27: Belanja bahan Material | K27: =SUM(K28:K42) -> 11420000
D28: 1 | E28: Lem Perekat | G28: ADD | H28: 80 | I28: kg | J28: 55000 | K28: =J28*H28 -> 4400000
D29: 2 | E29: Lem fox | G29: ADD | H29: 20 | I29: kg | J29: 22000 | K29: =J29*H29 -> 440000
D30: 3 | E30: Bambu | G30: ADD | H30: 50 | I30: btg | J30: 30000 | K30: =J30*H30 -> 1500000
D31: 4 | E31: Besi 10mm | G31: ADD | H31: 4 | I31: btg | J31: 65000 | K31: =J31*H31 -> 260000
D32: 5 | E32: Besi 6mm | G32: ADD | H32: 10 | I32: btg | J32: 40000 | K32: =J32*H32 -> 400000
D33: 6 | E33: Kayu usuk 4/6cm | G33: ADD | H33: 10 | I33: btg | J33: 70000 | K33: =J33*H33 -> 700000
D34: 7 | E34: Paku "5-7" | G34: ADD | H34: 4 | I34: kg | J34: 25000 | K34: =J34*H34 -> 100000
D35: 8 | E35: Kertas manila | G35: ADD | H35: 100 | I35: lbr | J35: 3500 | K35: =J35*H35 -> 350000
D36: 9 | E36: Karton | G36: ADD | H36: 50 | I36: lbr | J36: 5000 | K36: =J36*H36 -> 250000
D37: 10 | E37: Kertas presban | G37: ADD | H37: 50 | I37: lbr | J37: 3000 | K37: =J37*H37 -> 150000
D38: 11 | E38: Cat dasar | G38: ADD | H38: 6 | I38: kg | J38: 75000 | K38: =J38*H38 -> 450000
D39: 12 | E39: Cat halus | G39: ADD | H39: 6 | I39: kg | J39: 95000 | K39: =J39*H39 -> 570000
... D42: 15 | E42: Parade oles | G42: ADD | H42: 2 | I42: kopok | J42: 750000 | K42: =J42*H42 -> 1500000
B43: 5.2.1.08. | C43: Belanja Bendera/Umbul-umbul/Spanduk | K43: =SUM(K44:K45) -> 140000
D44: 1 | E44: Spanduk tema ogoh-ogoh | G44: ADD | H44: 1 | I44: bh | J44: 70000 | K44: =H44*J44 -> 70000
D45: 2 | E45: Spanduk Kontingen | G45: ADD | H45: 1 | I45: bh | J45: 70000 | K45: =H45*J45 -> 70000
B46: 5.2.1.10. | C46: Belanja bahn Obat-obatan | K46: =SUM(K47:K48) -> 275000
D47: 1 | E47: Minyak balsem | G47: ADD | H47: 5 | I47: btl | J47: 10000 | K47: =H47*J47 -> 50000
D48: 2 | E48: Minyak Urut botol besar | G48: ADD | H48: 5 | I48: btl | J48: 45000 | K48: =H48*J48 -> 225000
B49: 5.2.1.90. | C49: Belanja Pakaian Khusus/hari-hari Tertentu/Pakaian Adat | K49: =SUM(K50:K55) -> 25250000
D50: 1 | E50: Pakaian seragam pengarak ogoh-ogoh | G50: ADD | H50: 30 | I50: stel | J50: 270000 | K50: =J50*H50 -> 8100000
D51: 2 | E51: Pakaian seragam sekehe gong pengarak ogoh-ogoh | G51: ADD | H51: 35 | I51: stel | J51: 270000 | K51: =J51*H51 -> 9450000
D52: 3 | E52: Sepatu sekehe gong dan pengarak ogoh-ogoh | G52: ADD | H52: 35 | I52: psng | J52: 100000 | K52: =J52*H52 -> 3500000
D53: 4 | E53: Sepatu sekehe pengarak ogoh-ogoh 30 orang | H53: 30 | I53: psng | J53: 100000 | K53: =J53*H53 -> 3000000
D54: 5 | E54: Seragam untuk pria (udeng, saput, kamben, baju) | H54: 1 | I54: stel | J54: 550000 | K54: =J54*H54 -> 550000
D55: 6 | E55: Seragam untuk wanita ( selendang, kamben, bj kebaya) | H55: 1 | I55: stel | J55: 650000 | K55: =J55*H55 -> 650000
B56: 5.2.4.02. | C56: Belanja jasa Sewa Peralayan/Perlengkapan | K56: =K57 -> 1464000
D57: 1 | E57: Sewa Kostum Pembawa Spanduk Ogoh-ogoh | G57: ADD | H57: 3 | I57: stel | J57: 488000 | K57: =H57*J57 -> 1464000
B58: 5.2.4.03. | C58: Belanja Jasa sewa Sarana Mobilitas | K58: =K59 -> 2400000
D59: 1 | E59: Sewa Mobil angkut peserta pawai ogoh2 ke Kec. PP | G59: ADD | H59: 6 | I59: unit | J59: 400000 | K59: =H59*J59 -> 2400000
B60: 5.2.5.91. | C60: Belanja jasa upah kerja (upah kerja tukang, pekerja, dll) | K60: =SUM(K61:K63) -> 240000
D61: 1 | E61: Ketua | G61: ADD | H61: 1 | I61: ob | J61: 85000 | K61: =H61*J61 -> 85000
D62: 2 | E62: Sekretaris | G62: ADD | H62: 1 | I62: ob | J62: 80000 | K62: =H62*J62 -> 80000
D63: 3 | E63: Anggota 1 Orang | G63: ADD | H63: 1 | I63: ob | J63: 75000 | K63: =H63*J63 -> 75000
B64: 2 | C64: Penyelenggaraan Festival Kesenian, Adat/kebudayaan, dan Keagamaan (Hut RI,Raya Keagamaan dll) | L64: =K65+K90+K111+K123+K126+K129+K132 -> 100324500 | M64: =L64-45000000 -> 55324500
B65: 2.1 | C65: Kegiatan 17 Agustusan | K65: =K66+K70+K79+K82+K84+K88 -> 20513000
B66: 5.2.1.01. | C66: Belanja ATK & Benda Pos | K66: =SUM(K67:K69) -> 136000
D67: 1 | E67: Materai 6000 | G67: ADD | H67: 5 | I67: lbr | J67: 6000 | K67: =H67*J67 -> 30000
D68: 2 | E68: Materai 3000 | G68: ADD | H68: 2 | I68: lbr | J68: 3000 | K68: =H68*J68 -> 6000
D69: 3 | E69: Materai | G69: ADD | H69: 10 | I69: lbr | J69: 10000 | K69: =H69*J69 -> 100000
B70: 5.2.1.06. | C70: Belanja Barang Konsumsi (makan/Minum) | K70: =SUM(K71:K78) -> 4100000
D71: 1 | E71: Nasi peserta gerak jalan & senam 24 bks x 2 kali | G71: ADD | H71: 48 | I71: bks | J71: 15000 | K71: =H71*J71 -> 720000
D72: 2 | E72: Snek peserta gerak jalan & senam 24 bks x 2 kali | G72: ADD | H72: 48 | I72: bks | J72: 5000 | K72: =H72*J72 -> 240000
D73: 3 | E73: Air Mineral tanggung | G73: ADD | H73: 3 | I73: dus | J73: 80000 | K73: =H73*J73 -> 240000
D74: 4 | E74: Air Mineral Gelas | G74: ADD | H74: 4 | I74: dus | J74: 50000 | K74: =H74*J74 -> 200000
D75: 6 | E75: Nasi peserta voly 12 or x 5 hari | G75: ADD | H75: 60 | I75: bks | J75: 15000 | K75: =H75*J75 -> 900000
D76: 7 | E76: Snek peserta voly 12 or x 5 hari | G76: ADD | H76: 60 | I76: bks | J76: 5000 | K76: =H76*J76 -> 300000
D77: 8 | E77: Nasi untuk panitia desa 15 or x 5 hari | G77: ADD | H77: 75 | I77: bks | J77: 15000 | K77: =H77*J77 -> 1125000
D78: 9 | E78: Snek untuk panitia desa 15 or x 5 hari | G78: ADD | H78: 75 | I78: bks | J78: 5000 | K78: =H78*J78 -> 375000
B79: 5.2.1.08. | C79: Belanja Bendera/Umbul-umbul/Spanduk | K79: =SUM(K80:K81) -> 477000
D80: 1 | E80: Bendera Merah putih sedang | G80: ADD | H80: 5 | I80: buah | J80: 50000 | K80: =H80*J80 -> 250000
D81: 2 | E81: Bendera Merah putih besar 60c x 80c | G81: ADD | H81: 2 | I81: buah | J81: 113500 | K81: =H81*J81 -> 227000
B82: 5.2.1.10. | C82: Belanja Bahan obat-obatan | K82: =K83 -> 200000
D83: 1 | E83: Salep urut | G83: ADD | H83: 5 | I83: buah | J83: 40000 | K83: =H83*J83 -> 200000
B84: 5.2.1.91. | C84: Belanja Pakaian kerja lapangan/olahraga | K84: =SUM(K85:K87) -> 10800000
D85: 1 | E85: Seragam gerak jalan (celana trening, baju dan sepatu) | G85: ADD | H85: 12 | I85: stel | J85: 300000 | K85: =H85*J85 -> 3600000
D86: 2 | E86: Seragam Peserta Pertandingan bola Volly | G86: ADD | H86: 12 | I86: stel | J86: 300000 | K86: =H86*J86 -> 3600000
D87: 3 | E87: Seragam loma senam] (celana trening, baju dan sepatu) | G87: ADD | H87: 12 | I87: stel | J87: 300000 | K87: =H87*J87 -> 3600000
B88: 5.2.4.03. | C88: Belanja Jasa Sewa Sarana Mobilitas | K88: =K89 -> 4800000
D89: 1 | E89: Sewa mobil angkut peserta lomba 12 x 2 x 200.000 (PP) | G89: ADD | H89: 12 | I89: unit | J89: 400000 | K89: =J89*H89 -> 4800000
B90: 2.2 | C90: Menyabut Hari Ulang Tahun Provinsi Bali | K90: =K91+K94+K107+K109 -> 9125000
B91: 5.2.1.01. | C91: Belanja ATK & Benda Pos | K91: =SUM(K92:K93) -> 225000
D92: 1 | E92: Buku tulis | G92: ADD | H92: 15 | I92: buah | J92: 10000 | K92: =H92*J92 -> 150000
D93: 2 | E93: Pensil 2B | G93: ADD | H93: 15 | I93: buah | J93: 5000 | K93: =H93*J93 -> 75000
B94: 5.2.7.01. | C94: Belanja bahan perlengkapan untuk diserahkan kepada masyarakat | K94: =K95+K99+K103 -> 4700000
C95: 1 | D95: Lomba Nyurat Aksara Bali Hadiah berupa: | K95: =SUM(K96:K98) -> 750000
D96: 1 | E96: Hadiah Juara I Sepatu, Baju, Celana trening | G96: ADD | H96: 1 | I96: Stel | J96: 350000 | K96: =J96*H96 -> 350000
D97: 2 | E97: Hadiah juara II Baju dan Celana | G97: ADD | H97: 1 | I97: Stel | J97: 250000 | K97: =J97*H97 -> 250000
D98: 3 | E98: Hadiah Juara III Celana | G98: ADD | H98: 1 | I98: Stel | J98: 150000 | K98: =J98*H98 -> 150000
C99: 2 | D99: Lomba Baca Puisi | K99: =SUM(K100:K102) -> 750000
D100: 1 | E100: Hadiah Juara I Sepatu, Baju, Celana trening | G100: ADD | H100: 1 | I100: Stel | J100: 350000 | K100: =J100*H100 -> 350000
D101: 2 | E101: Hadiah juara II Baju dan Celana | G101: ADD | H101: 1 | I101: Stel | J101: 250000 | K101: =J101*H101 -> 250000
D102: 3 | E102: Hadiah Juara III Celana | G102: ADD | H102: 1 | I102: Stel | J102: 150000 | K102: =J102*H102 -> 150000
...

Sheet RABSUB.1
D1: RENCANA ANGGARAN BIAYA KEGIATAN PENYELENGGARAAN PEMERINTAHAN DESA
D2: DESA SEKARTAJI
C3: No. | H3: Uraian Kebutuhan | J3: Sumber | K3: Volume | L3: Satuan | M3: Harga RP. | O3: Pagu Anggaran
J4: Dana | M4: Satuan | N4: Jumlah
C5: 1. | D5: PENYELENGGARAAN PEMERINTAHAN DESA | O5: =O6+O184+O197+O210 -> 1.0046308e+09
D6: a | E6: Penyelenggaraan Belanja Siltap, Tunjangan dan Operasional Pemerintahan Desa | O6: =O7+O16+O34+O49+O156+O162 -> 9.028288e+08
D7: 1 | E7: Penyediaan Penghasilan Tetap & Tunjangan Perbekel | O7: =N9+N12 -> 63600000 | R7: 1196904068 | S7: ADD
D8: 5.1.1.01. | E8: Penghasilan Tetap Perbekel | R8: 8.8167076e+08 | S8: SUB 1
E9: 1 | F9: Penghasilan tetap Perbekel | N9: =N10 -> 36000000 | R9: =R7-R8 -> 3.1523331e+08
F10: 1 | G10: Siltap perbekel | J10: ADD | K10: 12 | L10: ob | M10: 3000000 | N10: =M10*K10 -> 36000000
D11: 5.1.102. | E11: Tunjangan Perbekel
E12: 1 | F12: Tunjangan Perbekel | N12: =SUM(N13:N15) -> 27600000
F13: 1 | G13: Tunjangan Beban kerja | J13: ADD | K13: 12 | L13: ob | M13: 1800000 | N13: =K13*M13 -> 21600000
F14: 2 | G14: Tunjangan Gaji ke 13 | J14: ADD | K14: 1 | L14: th | M14: 3000000 | N14: =K14*M14 -> 3000000
F15: 3 | G15: THR Perbekel | J15: ADD | K15: 1 | L15: th | M15: 3000000 | N15: =K15*M15 -> 3000000
D16: 2 | E16: Penyediaan Penghasilan Tetap & Tunjangan Perangkat Desa | O16: =N17+N23 -> 514000000 | R16: =O7+O16+O34+O49 -> 8.488638e+08
D17: 5.1.2.01. | E17: Penghasilan Tetap Perangkat Desa | N17: =SUM(N18:N21) -> 319200000
F18: 1 | G18: Siltap sekdes | J18: ADD | K18: 12 | L18: ob | M18: 2300000 | N18: =K18*M18 -> 27600000
F19: 2 | G19: Siltap 3 orang kaur | J19: ADD | K19: 36 | L19: ob | M19: 2025000 | N19: =K19*M19 -> 72900000
F20: 3 | G20: Siltap 3 orang kasi | J20: ADD | K20: 36 | L20: ob | M20: 2025000 | N20: =K20*M20 -> 72900000
F21: 4 | G21: Siltap 6 orang KBD | J21: ADD | K21: 72 | L21: ob | M21: 2025000 | N21: =K21*M21 -> 145800000
D22: 5.1.2.02. | E22: Tunjangan Perangkat Desa | N22: =N23 -> 194800000
E23: 1 | N23: =SUM(N24:N33) -> 194800000
F24: 1 | G24: Tunjangan Beban Kerja Sekdes | J24: ADD | K24: 12 | L24: ob | M24: 1200000 | N24: =K24*M24 -> 14400000
F25: 3 | G25: Tunjangan Beban Kerja 6 orang (kasi & Kaur) | J25: ADD | K25: 72 | L25: ob | M25: 800000 | N25: =M25*K25 -> 57600000
F26: 4 | G26: Tunjangan Beban Kerja KBD 6 orang | J26: ADD | K26: 72 | L26: ob | M26: 600000 | N26: =M26*K26 -> 43200000
F27: 5 | G27: Tunjangan Gaji ke 13 Sekdes | J27: ADD | K27: 1 | L27: ob | M27: 2300000 | N27: =M27*K27 -> 2300000
F28: 6 | G28: Tunjangan Gaji ke 13 Kasi, Kaur, KBD (12 org) | J28: ADD | K28: 12 | L28: ob | M28: 2025000 | N28: =M28*K28 -> 24300000
F29: 7 | G29: THR Sekdes | J29: ADD | K29: 1 | L29: ob | M29: 2300000 | N29: =M29*K29 -> 2300000
F30: 8 | G30: THR Kasi, Kaur, KBD (12 org) | J30: ADD | K30: 12 | L30: ok | M30: 2025000 | N30: =M30*K30 -> 24300000
F31: 9 | G31: TMK 0 s/d 5 tahun (8 org) | J31: ADD | K31: 96 | L31: ob | M31: 100000 | N31: =M31*K31 -> 9600000
F32: 10 | G32: TMK 5 s/d 10 tahun (1 org) | J32: ADD | K32: 12 | L32: ob | M32: 200000 | N32: =M32*K32 -> 2400000
F33: 11 | G33: TMK diatas 10 tahun (4 org) | J33: ADD | K33: =4*12 -> 48 | L33: ob | M33: 300000 | N33: =M33*K33 -> 14400000
D34: 3 | E34: Penyediaan Jaminan Sosial Perbekel dan Perangkat Desa | O34: =N35+N37+N43+N45 -> 36166221
D35: 5.1.3.01. | E35: Jaminan Kesehatan Kepala Desa | N35: =N36 -> 2442240
F36: 1 | G36: BPJS Kesehatan Perbekel | J36: ADD | K36: 12 | L36: ob | M36: 203520 | N36: =M36*K36 -> 2442240
D37: 5.1.3.02. | E37: Jaminan Kesehatan Perangkat Desa | N37: =SUM(N38:N42) -> 19537920
F38: 1 | G38: BPJS Kesehatan Sekdes | J38: ADD | K38: 12 | L38: ob | M38: 161120 | N38: =K38*M38 -> 1933440
F39: 2 | G39: BPJS Kesehatan Kaur 1 org, kasi 2 org | J39: ADD | K39: 36 | L39: ob | M39: 132500 | N39: =M39*K39 -> 4770000
F40: 3 | G40: BPJS Kesehatan kasi pemerintahan 1 org | J40: ADD | K40: 12 | L40: ob | M40: 128260 | N40: =M40*K40 -> 1539120
F41: 4 | G41: BPJS Kesehatan kaur 2 org | J41: ADD | K41: 24 | L41: ob | M41: 124020 | N41: =M41*K41 -> 2976480
F42: 5 | G42: BPJS Kesehatan KBD 6 org | J42: ADD | K42: 72 | L42: ob | M42: 115540 | N42: =M42*K42 -> 8318880
D43: 5.1.3.03. | E43: Jaminan Ketenagakerjaan Kepala Desa | N43: =N44 -> 1013290.1
F44: 1 | G44: BPJS Ketenagakerjaan Perbekel | J44: ADD | K44: 12 | L44: ob | M44: 84440.84 | N44: =M44*K44 -> 1013290.1
D45: 5.1.3.04. | E45: Jaminan Ketenagakerjaan Perangkat Desa | N45: =SUM(N46:N48) -> 13172771
F46: 1 | G46: BPJS Ketenagakerjaan Sekdes | J46: ADD | K46: 12 | L46: ob | M46: 84440.84 | N46: =M46*K46 -> 1013290.1
F47: 2 | G47: BPJS Ketenagakerjaan Kasi dan Kaur 6 orang | J47: ADD | K47: 72 | L47: ob | M47: 84440.84 | N47: =M47*K47 -> 6079740.5
F48: 3 | G48: BPJS Ketenagakerjaan KBD 6 orang | J48: ADD | K48: 72 | L48: ob | M48: 84440.84 | N48: =M48*K48 -> 6079740.5
D49: 4 | E49: Penyediaan Operasional Pemerintah Desa (ATK,Honor PKPKD dan PPKD dll)) | O49: =N50+N74+N82+N90+N92+N97+N107+N109+N112+N114+N118+N121+N124+N127+N130+N132+N134+N136+N139+N142+N147 -> 2.3509758e+08
D50: 5.2.1.01. | E50: Belanja Alat Tulis Kantor dan Benda Pos | N50: =SUM(N51:N73) -> 13303000
F51: 1 | G51: Kertas A4 dan F4 | J51: ADD | K51: 50 | L51: rim | M51: 60000 | N51: =K51*M51 -> 3000000
F52: 2 | G52: Reffil Tonner | J52: ADD | K52: 20 | L52: bh | M52: 125000 | N52: =M52*K52 -> 2500000
F53: 3 | G53: Drum Toner | J53: ADD | K53: 21 | L53: bh | M53: 70000 | N53: =K53*M53 -> 1470000
F54: 4 | G54: Klip Kertas Kecil/Seagul | J54: ADD | K54: 20 | L54: ktk | M54: 5000 | N54: =M54*K54 -> 100000
F55: 5 | G55: Lem kertas kecil | J55: ADD | K55: 6 | L55: buah | M55: 10000 | N55: =M55*K55 -> 60000
F56: 6 | G56: Isi staples kecil | J56: ADD | K56: 2 | L56: kotak | M56: 15000 | N56: =M56*K56 -> 30000
F57: 7 | G57: Pulpen | J57: ADD | K57: 4 | L57: kotak | M57: 60000 | N57: =M57*K57 -> 240000
F58: 8 | G58: Lakban Penjilidan | J58: ADD | K58: 6 | L58: bh | M58: 18000 | N58: =M58*K58 -> 108000
F59: 9 | G59: Stop Map | J59: ADD | K59: 4 | L59: pak | M59: 35000 | N59: =M59*K59 -> 140000
F60: 10 | G60: Kertas Foto | J60: ADD | K60: 6 | L60: rim | M60: 55000 | N60: =M60*K60 -> 330000
F61: 11 | G61: Kertas Jilid warna | J61: ADD | K61: 4 | L61: rim | M61: 45000 | N61: =M61*K61 -> 180000
F62: 12 | G62: Spidol besar | J62: ADD | K62: 4 | L62: buah | M62: 10000 | N62: =M62*K62 -> 40000
F63: 13 | G63: Klip Hitam Sedang | J63: ADD | K63: 15 | L63: kotak | M63: 20000 | N63: =M63*K63 -> 300000
F64: 14 | G64: Klip Hitam Besar | J64: ADD | K64: 10 | L64: kotak | M64: 22000 | N64: =M64*K64 -> 220000
F65: 15 | G65: Klip Hitam Kecil | J65: ADD | K65: 10 | L65: kotak | M65: 15000 | N65: =M65*K65 -> 150000
... F68: 18 | G68: Materai 10000 | J68: ADD | K68: 300 | L68: lbr | M68: 10000 | N68: =M68*K68 -> 3000000
F69: 19 | G69: Kalender Gantung | J69: ADD | K69: 2 | L69: buah | M69: 10000 | N69: =M69*K69 -> 20000 | Q69: 500.5
F70: 20 | G70: Stamp pad | J70: ADD | K70: 2 | L70: buah | M70: 15000 | N70: =M70*K70 -> 30000
F71: 21 | G71: Tinta Stamp pad | J71: ADD | K71: 2 | L71: buah | M71: 10000 | N71: =M71*K71 -> 20000
F72: 22 | G72: Stop Map Teka | J72: ADD | K72: 15 | L72: buah | M72: 30000 | N72: =M72*K72 -> 450000
F73: 23 | G73: Buka cetak besar | J73: ADD | K73: 5 | L73: buah | M73: 75000 | N73: =M73*K73 -> 375000
D74: 5.2.1.02. | E74: Belanja Perlengkapan Alat-Alat Listrik | N74: =SUM(N75:N81) -> 1200000
F75: 1 | G75: Baterai AAA | J75: ADD | K75: 4 | L75: paket | M75: 15000 | N75: =M75*K75 -> 60000
F76: 2 | G76: Baterai AA | J76: ADD | K76: 6 | L76: paket | M76: 15000 | N76: =M76*K76 -> 90000
F77: 3 | G77: Lampu 20 Watt | J77: ADD | K77: 5 | L77: bh | M77: 55000 | N77: =M77*K77 -> 275000
F78: 4 | G78: Lampu 23 Watt | J78: ADD | K78: 5 | L78: bh | M78: 65000 | N78: =M78*K78 -> 325000
F79: 5 | G79: Pitingan Lampu | J79: ADD | K79: 5 | L79: bh | M79: 15000 | N79: =M79*K79 -> 75000
F80: 6 | G80: Saklar | J80: ADD | K80: 5 | L80: bh | M80: 5000 | N80: =M80*K80 -> 25000
F81: 7 | G81: Kabel Gulung | J81: ADD | K81: 1 | L81: rol | M81: 350000 | N81: =M81*K81 -> 350000
D82: 5.2.1.03. | E82: Belanja Perlengkapan Alat Rumah Tangga dan Bahan Kebersihan | N82: =SUM(N83:N89) -> 840000
F83: 1 | G83: Cairan pembersih kaca kantor | J83: ADD | K83: 2 | L83: bh | M83: 15000 | N83: =K83*M83 -> 30000
F84: 2 | G84: Cairan Pembersih Lantai | J84: ADD | K84: 2 | L84: bh | M84: 20000 | N84: =K84*M84 -> 40000
F85: 3 | G85: Obat Nyamuk Semprot | J85: ADD | K85: 2 | L85: bh | M85: 55000 | N85: =K85*M85 -> 110000
F86: 4 | G86: Cairan Pembersih Kamar Mandi | J86: ADD | K86: 2 | L86: bh | M86: 20000 | N86: =K86*M86 -> 40000
F87: 5 | G87: Pengharum Ruangan | J87: ADD | K87: 12 | L87: bh | M87: 15000 | N87: =K87*M87 -> 180000
F88: 6 | G88: Hand sanitizer | J88: ADD | K88: 4 | L88: bh | M88: 80000 | N88: =K88*M88 -> 320000
F89: 7 | G89: Sabun cuci tangan | J89: ADD | K89: 4 | L89: bh | M89: 30000 | N89: =K89*M89 -> 120000
D90: 5.2.1.04. | E90: Bahan Bakar Minyak/Gas/isi ulang/tabung Pemadam kebakaran | N90: =N91 -> 200000
F91: 1 | G91: BBM untuk Jenset kantor | J91: ADD | K91: 20 | L91: liter | M91: 10000 | N91: =K91*M91 -> 200000
D92: 5.2.1.05. | E92: Belanja Barang cetak dan Penggandaan | N92: =SUM(N93:N96) -> 4700000
F93: 1 | G93: Fotokopi / Penggandaan | J93: ADD | K93: 6000 | L93: lbr | M93: 350 | N93: =K93*M93 -> 2100000
F94: 2 | G94: Cetak Buku / Penggandaan | J94: ADD | K94: 30 | L94: eks | M94: 70000 | N94: =K94*M94 -> 2100000
F95: 3 | G95: Penjilidan | J95: ADD | K95: 30 | L95: eks | M95: 10000 | N95: 300000
F96: 4 | G96: Cetak Foto Kegiatan | J96: ADD | K96: 40 | L96: lbr | M96: 5000 | N96: =K96*M96 -> 200000
D97: 5.2.1.06. | E97: Belanja Barang Konsumsi (makan Minum) | N97: =SUM(N98:N106) -> 4725000
F98: 1 | G98: Nasi Bungkus Kegiatan Lembur Perangkat Desa | J98: ADD | K98: 90 | L98: bks | M98: 15000 | N98: =M98*K98 -> 1350000
F99: 2 | G99: Air Mineral Gelas keg. Lembur Perangkat Desa | J99: ADD | K99: 6 | L99: dus | M99: 50000 | N99: =M99*K99 -> 300000
F100: 3 | G100: Nasi Bungkus Untuk Tamu | J100: ADD | K100: 60 | L100: bks | M100: 15000 | N100: =M100*K100 -> 900000
F101: 4 | G101: Air Mineral Gelas untuk Tamu | J101: ADD | K101: 6 | L101: dus | M101: 50000 | N101: =M101*K101 -> 300000
F102: 5 | G102: Air Mineral Tanggung untuk Tamu | J102: ADD | K102: 6 | L102: dus | M102: 90000 | N102: =M102*K102 -> 540000
...

Sheet Pagu indikatif
A1: DATA PAGU INDIKATIP
A2: DESA | E2: DESA : SEKARTAJI | K2: KABUPATEN | L2: : KLUNGKUNG
A3: KECAMATAN | E3: KECAMATAN : NUSA PENIDA | K3: PROVINSI | L3: : BALI
A4: No | D4: Indikasi Program / Kegiatan Desa | F4: Sumber Dana Indikatif
F5: Dana Desa (APBN) | G5: Alokasi Dana Desa (Bagian dana perimbangan Kabupaten) | H5: Dana Bagian dari Hasil Pajak dan Retribusi | I5: Bantuan Keuangan | L5: Dll
I6: APBD Provinsi | J6: APBD Kabupaten | K6: Pendapatan Asli Desa
A8: I | C8: 1 | D8: ='DAFTAR USULAN'!C9 -> PENYELENGGARAAN PEMERINTAHAN DESA
A9: a | D9: ='DAFTAR USULAN'!E10 -> Penyelenggaraan Belanja Siltap, Tunjangan dan Operasional Pemerintahan Desa
D10: 1 | E10: ='RKP DESA'!F11 -> Penyediaan Penghasilan Tetap & Tunjangan Perbekel | G10: ='RKP DESA'!K11 -> 63600000
D11: 2 | E11: ='RKP DESA'!F12 -> Penyediaan Penghasilan Tetap & Tunjangan Perangkat Desa | G11: ='RKP DESA'!K12 -> 514000000
D12: 3 | E12: ='RKP DESA'!F13 -> Penyediaan Jaminan Sosial Perbekel dan Perangkat Desa | G12: ='RKP DESA'!K13 -> 36166221
D13: 4 | E13: ='RKP DESA'!F14 -> Penyediaan Operasional Pemerintah Desa (ATK,Honor PKPKD dan PPKD dll)) | G13: ='RKP DESA'!K14 -> 2.3509758e+08
D14: 5 | E14: ='RKP DESA'!F15 -> Penyediaan Tunjangan BPD | G14: ='RKP DESA'!K15 -> 20400000
D15: 6 | E15: ='RKP DESA'!F16 -> Penyediaan Operasional BPD (rapat,ATK,makan minum,pakaian seragam, listrik dll) | G15: ='RKP DESA'!K16 -> 33565000
A16: b | D16: ='DAFTAR USULAN'!E17 -> Penyediaan Sarana dan Prasarana Pemerintahan Desa
D17: 1 | E17: ='DAFTAR USULAN'!F18 -> Penyediaan Sarana (Aset Tetap) Perkantoran/Pemerintahan | G17: ='RABSUB.1'!O185 -> 5988000
D18: 2 | E18: ='DAFTAR USULAN'!F19 -> Pemeliharaan Gedung/Prasarana Kantor Desa | G18: ='RABSUB.1'!O189 -> 17600000
A19: c | D19: ='DAFTAR USULAN'!E20 -> Pengelolaan Administrasi Kependudukan, Pencatatan Sipil, Statistik dan Kearsipan
D20: 1 | E20: ='DAFTAR USULAN'!F21 -> Penyusunan, Pendataan, dan Pemutakhiran Profil Desa | G20: ='RKP DESA'!K21 -> 3702000
A21: d | D21: ='DAFTAR USULAN'!E22 -> Penyelenggaraan Tata Praja Pemerintahan,Perencanaan,Keuangan dan Pelaporan
D22: 1 | E22: ='DAFTAR USULAN'!F23 -> Penyelenggaraan Musyawarah Perencanaan Desa/Pembahasan APBDES (Reguler) | G22: ='RKP DESA'!K23 -> 12540000
D23: 2 | E23: ='DAFTAR USULAN'!F24 -> Penyusunan Dokumen Perencanaan Desa (RPJM Desa/RKP Desa Dll) | G23: ='RKP DESA'!K24 -> 4389000
D24: 3 | E24: ='DAFTAR USULAN'!F25 -> Penyusunan Dokumen Keuangan Desa(APBDes,APBDes Perubahan, LPJ dll) | G24: ='RKP DESA'!K25 -> 3539000
D25: 4 | E25: ='DAFTAR USULAN'!F26 -> Penyusunan Laporan Kepala Desa, LPPDesa dan Informasi Kepada masyarakat | G25: ='RKP DESA'!K26 -> 3689000
D26: 5 | E26: ='RABSUB.1'!E264 -> Dukungan dan Sosialisasi Pelaksanaan Pilkades, Pemilihan Ka Kewilayahan & BPD | G26: ='RABSUB.1'!O264 -> 50355000
E27: Jumlah Bidang I | F27: =SUM(F8:F26) -> 0 | G27: =SUM(G9:G26) -> 1.0046308e+09 | H27: =SUM(H8:H26) -> 0 | I27: =SUM(I8:I26) -> 0 | J27: =SUM(J8:J26) -> 0 | K27: =SUM(K8:K26) -> 0 | L27: =SUM(L8:L26) -> 0
A28: II | C28: 2 | D28: BIDANG PEMBANGUNAN
A29: a | D29: ='DAFTAR USULAN'!E30 -> Sub Bidang Pendidikan
D30: 1 | E30: ='DAFTAR USULAN'!F31 -> Penyelenggaraan PAUD/TK/TKA/TPQ/Madrasah Non Formal Milik Desa | F30: =sub.2!N7 -> 27070000
D31: 2 | E31: ='DAFTAR USULAN'!F32 -> Dukungan Pendidikan bagi Siswa Miskin/Berprestasi
A32: b | D32: ='DAFTAR USULAN'!E33 -> Sub Bidang Kesehatan
D33: 1 | E33: ='DAFTAR USULAN'!F34 -> Penyelenggaraan Pos Kesehatan Desa/Polides Milik Desa (Obat,Insentif,KB,dst) | F33: =sub.2!N39 -> 14150000
D34: 2 | E34: ='DAFTAR USULAN'!F35 -> Penyelenggaraan Posyandu (Mkn Tambahan,Kls Bumil,Lansia,Insentif | F34: =sub.2!N52 -> 175868600
D35: 3 | E35: ='DAFTAR USULAN'!F36 -> Penyelenggaraan Desa Siaga Kesehatan | F35: =sub.2!O73 -> 4200000 | G35: =sub.2!O85 -> 28750000 | H35: =sub.2!O88 -> 80450000
D36: 4 | E36: ='DAFTAR USULAN'!F37 -> Pengasuhan Bersama atau Bina Keluarga Balita (BKB)
D37: 5 | E37: ='DAFTAR USULAN'!F38 -> Pembangunan/Rehabilitasi/Peningkatan/Pengadaan Sarana/Prasarana Alat Posyandu | F37: =sub.2!N91 -> 18864600
D38: 6 | E38: ='DAFTAR USULAN'!F39 -> Penyelenggaraan Bina Keluarga Lansia (BKL)
A39: c | D39: ='DAFTAR USULAN'!E40 -> Sub bidang Pekerjaan Umum dan Penataan Ruang
D40: 1 | E40: ='DAFTAR USULAN'!F41 -> Kelanjutan Pembangunan/Rehabilitasi/Peningkatan Balai Desa/Balai Kemasyarakatan | H40: =sub.2!O109 -> 155024000 | L40: =sub.2!O112 -> 5520000
D41: 2 | E41: ='DAFTAR USULAN'!F42 -> Pembangunan /Rehabilitasi /Peningkatan/Pengerasan Jalan Lingkungan Pemukiman Dsn Sekartaji
D42: 3 | E42: ='DAFTAR USULAN'!F43 -> Pembangunan /Rehabilitasi /Peningkatan/Pengerasan Jalan Menuju Pura Dalem dan tempat parkir Pantai Nyanyad
D43: 4 | E43: ='DAFTAR USULAN'!F44 -> Pembangunan /Rehabilitasi /Peningkatan/Pengerasan Jalan Lingkungan Pemukiman Dsn Ramuan
D44: 5 | E44: ='DAFTAR USULAN'!F45 -> Pembangunan/Rehabilitasi/Peningkatan Pemakaman Milik Desa/Situs Bersejarah Milik Desa/Petilasan
D45: 6 | E45: ='DAFTAR USULAN'!F46 -> Pembangunan /Rehabilitasi /Peningkatan Monumen/Gapura/Batas Desa
A46: d | D46: ='DAFTAR USULAN'!E47 -> Sub Bidang Kawasan Pemukiman
D47: 1 | E47: ='DAFTAR USULAN'!F49 -> Pemeliharaan Fasilitas Pengelolaan Sampah Desa (Penampungan, Bank Sampah dll) | F47: =sub.2!N124 -> 4080000
D48: 2 | E48: ='DAFTAR USULAN'!F50 -> Pembangunan/Rehabilitasi/Peningkatan Sumber Air Bersih Milik Desa | F48: =sub.2!N139 -> 871310670
A49: e | D49: ='DAFTAR USULAN'!E51 -> Sub Bidang perhubungan, Komunikasi, dan Informatika
D50: 1 | E50: ='DAFTAR USULAN'!F52 -> Belanja Bendera/Umbul-umbul/Spanduk | F50: =sub.2!N177 -> 2000000
A51: Jumlah Bidang II | E51: Jumlah Bidang II | F51: =SUM(F29:F50) -> 1117543870 | G51: =SUM(G29:G50) -> 28750000 | H51: =SUM(H29:H50) -> 235474000 | I51: =SUM(I29:I50) -> 0 | J51: =SUM(J29:J50) -> 0 | K51: =SUM(K29:K50) -> 0 | L51: =SUM(L29:L50) -> 5520000
A52: III | C52: 3 | D52: ='DAFTAR USULAN'!C54 -> BIDANG PEMBINAAN KEMASYARAKATAN
A53: a | D53: ='DAFTAR USULAN'!D55 -> Sub Bidang Ketentraman, Ketertiban Umum & Perlindungan Masyarakat
D54: 1 | E54: ='DAFTAR USULAN'!E56 -> Koordinasi Pembinaan Keamanan, Ketertiban & Perlindungan Masyarakat skala lokal desa | H54: ='SUB.3, 4'!K14 -> 6900000 | K54: ='SUB.3, 4'!M8 -> 10500000
A55: b | D55: ='DAFTAR USULAN'!D57 -> Sub Bidang Kebudayaan & Keagamaan
D56: 1 | E56: ='DAFTAR USULAN'!E58 -> Pengiriman Kontingen Grup Kesenian & Kebudayaan (Wakil Desa tkt Kec/Kab/Kot | G56: ='SUB.3, 4'!L16 -> 60989000
D57: 2 | E57: ='DAFTAR USULAN'!E60 -> Penyelenggaraan Festival Kesenian, Adat/kebudayaan, dan Keagamaan (Hut RI,Raya Keagamaan dll) | G57: 55324500 | J57: 45000000
A58: c | D58: ='DAFTAR USULAN'!D68 -> Sub Bidang Kepemudaan dan Olahraga
D59: 1 | E59: ='DAFTAR USULAN'!E69 -> Penyelenggaraan Pelatihan Kepemudaan Tingkat Desa | G59: ='DAFTAR USULAN'!L69 -> 14750000
D60: 2 | E60: ='DAFTAR USULAN'!E71 -> Penyelenggaraan Festival/Lomba Kepemudaan & Olahraga Tingkat Desa | G60: ='DAFTAR USULAN'!L71 -> 28020000
D61: 3 | E61: Pembangunan/Rehabilitasi/Peningkatan Sarana dan Prasarana Kepemudaan dan Olahraga Milik Desa
A62: d | D62: ='DAFTAR USULAN'!D74 -> Sub Bidang Kelembagaan Masyarakat
D63: 1 | E63: ='DAFTAR USULAN'!E75 -> Kegiatan Pembinaan Lembaga Adat | J63: ='SUB.3, 4'!K197 -> 52000000
D64: 2 | E64: ='DAFTAR USULAN'!E76 -> Kegiatan Pembinaan LPM | H64: ='DAFTAR USULAN'!L76 -> 14415000
D65: 3 | E65: ='DAFTAR USULAN'!E77 -> Kegiatan Pembinaan Organisasi Perempuan/PKK | G65: ='DAFTAR USULAN'!L77 -> 20850000
A66: Jumlah Bidang III | E66: Jumlah Bidang III | F66: =SUM(F54:F65) -> 0 | G66: =SUM(G54:G65) -> 179933500 | H66: =SUM(H54:H65) -> 21315000 | I66: =SUM(I54:I65) -> 0 | J66: =SUM(J54:J65) -> 97000000 | K66: =SUM(K54:K65) -> 10500000 | L66: =SUM(L54:L65) -> 0
A67: IV | C67: 4 | D67: ='DAFTAR USULAN'!C79 -> BIDANG PEMBERDAYAAN MASYARAKAT
A68: a | D68: ='DAFTAR USULAN'!D80 -> Sub Bidang Pemberdayaan Perempuan, Perlindungan Anak dan keluarga
D69: 1 | E69: ='DAFTAR USULAN'!E81 -> Kegiatan Pelatihan dan penyuluhan Pemberdayaan Perempuan | L69: ='RKP DESA'!K67 -> 5048000
D70: 2 | E70: ='RKP DESA'!F69 -> Peningkatan Produksi Tanaman Pangan (alat/produksi/pengelolaan/penggilingan)
D71: 3 | E71: ='RKP DESA'!F70 -> Pelatihan/Bintek/Pengenalan tentang Pertanian/Peternakan
D72: 4 | E72: ='RKP DESA'!F72 -> Lain-lain Kegiatan Sub Bidang Dukungan Penanaman Modal
A73: Jumlah Bidang IV | E73: Jumlah Bidang IV | F73: =SUM(F68:F69) -> 0 | G73: =SUM(G68:G69) -> 0 | H73: =SUM(H68:H69) -> 0 | I73: =SUM(I68:I69) -> 0 | J73: =SUM(J68:J69) -> 0 | K73: =SUM(K68:K69) -> 0 | L73: =SUM(L68:L69) -> 5048000
C74: 5 | D74: ='SUB.3, 4'!B361 -> BIDANG PENANGGULANGAN BENCANA, DARURAT DAN MENDESAK DESA
D75: ='SUB.3, 4'!C362 -> Sub Bidang Keadaan Mendesak
D76: 1 | E76: ='SUB.3, 4'!C363 -> Kegiatan penanganan keadaan mendesak | F76: ='SUB.3, 4'!L377 -> 144000000
E77: Jumlah Bidang V | F77: =SUM(F75:F76) -> 144000000 | G77: =SUM(G75:G76) -> 0 | H77: =SUM(H75:H76) -> 0 | I77: =SUM(I75:I76) -> 0 | J77: =SUM(J75:J76) -> 0 | K77: =SUM(K75:K76) -> 0 | L77: =SUM(L75:L76) -> 0
E78: JUMLAH | F78: =F27+F51+F66+F73+F77 -> 1261543870 | G78: =G27+G51+G66+G73+G77 -> 1.2133143e+09 | H78: =H27+H51+H66+H73+H77 -> 256789000 | I78: =I27+I51+I66+I73+I77 -> 0 | J78: =J27+J51+J66+J73+J77 -> 97000000 | K78: =K27+K51+K66+K73+K77 -> 10500000 | L78: =L27+L51+L66+L73+L77 -> 10568000
A79: TOTAL JUMLAH | H79: 46.680.914,00 | K79: 300000
A80: Mengetahui : | H80: Desa Sekartaji, 28 September 2020 | K80: =K78-K79 -> 10200000
A81: Perbekel Desa Sekartaji | G81: 46680914 | H81: Ketua Tim Penyusun RKP Desa Sekartaji
G82: =H78-G81 -> 210108086
G84: =F78+G78+H78+J78 -> 2.8286472e+09
A85: I Made Carma | G85: =SUM(F78:L78) -> 2.8497152e+09 | H85: I Ketut Pasturi

Sheet Sheet2
A1: C ZZC
A2: sumber dana | B2: pendapatan | C2: silpa | D2: jumlah | E2: baru 2 september 2020
A3: PAD | B3: 14300000 | C3: 22261028 | D3: =B3+C3 -> 36561028 | E3: 8300000 | F3: =C3+E3 -> 30561028
A4: DLL | B4: 9599000 | C4: 9458620.2 | D4: =B4+C4 -> 19057620 | E4: =B4 -> 9599000 | F4: =C4+E4 -> 19057620
A5: BKK | B5: 97000000 | C5: 0 | D5: =B5+C5 -> 97000000 | E5: =D5 -> 97000000 | F5: =C5+E5 -> 97000000
A6: PBP | B6: 0 | C6: 54600 | D6: =B6+C6 -> 54600
A7: BHP | B7: 303063039 | C7: 40564367 | D7: =B7+C7 -> 343627406 | E7: =SUM(C11:C12) -> 192450008 | F7: =C7+E7 -> 233014375
A8: DDS | B8: 1193628000 | C8: 2.1403849e+08 | D8: =B8+C8 -> 1.4076665e+09 | E8: 1242606000 | F8: =C8+E8 -> 1.4566445e+09
A9: ADD | B9: 1051988000 | C9: 1.232377e+08 | D9: =B9+C9 -> 1.1752257e+09 | E9: 1063314000 | F9: =C9+E9 -> 1.1865517e+09
B11: BHPD | C11: 103866435
B12: BHR | C12: 88583573
B15: per 10 Desember 2020
A16: sumber dana | B16: pendapatan | C16: silpa | D16: jumlah
A17: PAD | B17: 8300400 | C17: 2000000 | D17: =B17+C17 -> 10300400
A18: DLL | B18: 8400000 | C18: 2500000 | D18: =B18+C18 -> 10900000
A19: BKK | B19: 97000000 | C19: 0 | D19: =B19+C19 -> 97000000
A20: PBP | B20: 0 | C20: 54600 | D20: =B20+C20 -> 54600
A21: BHP | B21: 192450008 | C21: 50000000 | D21: =B21+C21 -> 242450008
A22: DDS | B22: 1246606000 | C22: 150000000 | D22: =B22+C22 -> 1396606000
A23: ADD | B23: 1063314000 | C23: 150000000 | D23: =B23+C23 -> 1213314000

Sheet sub.2
C1: RENCANA ANGGARAN BIAYA KEGIATAN PEMBANGUNAN DESA
C2: DESA SEKARTAJI
B3: No. | G3: Uraian Kebutuhan | I3: Sumber | J3: Volume | K3: Satuan | L3: Harga RP. | N3: Pagu Anggaran
I4: Dana | L4: Satuan | M4: Jumlah
B5: 2 | C5: BIDANG PELAKSANAAN PEMBANGUNAN DESA | N5: =N6+N38+N100+N123+N176 -> 1387287870
C6: a | D6: Sub Bidang Pendidikan | N6: =N7 -> 27070000
C7: 1 | D7: Penyelenggaraan PAUD/TK/TKA/TPQ/Madrasah Non Formal Milik Desa | N7: =M8+M28+M36 -> 27070000
C8: 5.2.1.01. | D8: Belanja Alat Tulis Kantor dan Benda Pos | M8: =SUM(M9:M27) -> 2670000
E9: 1 | F9: Kertas | I9: DDS | J9: 2 | K9: rim | L9: 60000 | M9: =J9*L9 -> 120000
E10: 2 | F10: Buku Raport | I10: DDS | J10: 20 | K10: bh | L10: 50000 | M10: =J10*L10 -> 1000000
E11: 3 | F11: Kertas Ijazah | I11: DDS | J11: 20 | K11: bh | L11: 15000 | M11: =J11*L11 -> 300000
E12: 4 | F12: Pensil utk anak TK | I12: DDS | J12: 20 | K12: bh | L12: 4000 | M12: =J12*L12 -> 80000
E13: 5 | F13: Penghapus utk anak TK | I13: DDS | J13: 20 | K13: bh | L13: 4000 | M13: =J13*L13 -> 80000
E14: 6 | F14: Lem kertas | I14: DDS | J14: 20 | K14: bh | L14: 10000 | M14: =J14*L14 -> 200000
E15: 7 | F15: Steples | I15: DDS | J15: 2 | K15: bh | L15: 25000 | M15: =J15*L15 -> 50000
E16: 8 | F16: Isi Steples | I16: DDS | J16: 1 | K16: kotak | L16: 15000 | M16: =J16*L16 -> 15000
E17: 9 | F17: Penghapus papan tulis | I17: DDS | J17: 1 | K17: bh | L17: 10000 | M17: =J17*L17 -> 10000 | O17: =N7 -> 27070000 | P17: paud add
E18: 10 | F18: Spidol papan tulis | I18: DDS | J18: 5 | K18: buah | L18: 10000 | M18: =J18*L18 -> 50000
E19: 11 | F19: Gunting anak | I19: DDS | J19: 20 | K19: buah | L19: 7000 | M19: =J19*L19 -> 140000
E20: 12 | F20: Pensil warna/krayon | I20: DDS | J20: 5 | K20: buah | L20: 20000 | M20: =J20*L20 -> 100000
E21: 13 | F21: Stampad | I21: DDS | J21: 1 | K21: buah | L21: 20000 | M21: =J21*L21 -> 20000
E22: 14 | F22: Tinta Stampad | I22: DDS | J22: 1 | K22: buah | L22: 20000 | M22: =J22*L22 -> 20000
E23: 15 | F23: Buku gambar | I23: DDS | J23: 20 | K23: buah | L23: 5000 | M23: =J23*L23 -> 100000
E24: 16 | F24: Buku tulis anak | I24: DDS | J24: 20 | K24: buah | L24: 5000 | M24: =J24*L24 -> 100000
E25: 17 | F25: Map | I25: DDS | J25: 1 | K25: pak | L25: 35000 | M25: =J25*L25 -> 35000
E26: 18 | F26: Pulpen Guru | I26: DDS | J26: 10 | K26: buah | L26: 5000 | M26: =J26*L26 -> 50000
E27: 19 | F27: Papan Tulis | I27: DDS | J27: 1 | K27: bh | L27: 200000 | M27: =J27*L27 -> 200000 | O27: =#REF! -> #REF! | P27: penyeker dds
C28: 5.2.1.90. | D28: Belanja Pakaian Khusus/Hari-hari Tertentu/Pakaian Adat | M28: =SUM(M29:M35) -> 12400000 | O28: =N38 -> 322283200 | P28: posyandu dds
E29: 1 | F29: Seragam putih biru untuk anak TK | I29: DDS | J29: 20 | K29: stel | L29: 160000 | M29: =J29*L29 -> 3200000 | O29: =#REF! -> #REF! | P29: Gang ramuan dds
E30: 2 | F30: Seragam batik untuk anak TK | I30: DDS | J30: 20 | K30: stel | L30: 160000 | M30: =J30*L30 -> 3200000 | O30: =N176+#REF! -> #REF! | P30: air,baliho dds
E31: 3 | F31: Seragam olahraga unutk anak TK | I31: DDS | J31: 20 | K31: stel | L31: 125000 | M31: =J31*L31 -> 2500000 | O31: =N101 -> 160544000 | P31: balai desa add
E32: 4 | F32: Sepatu untuk anak TK | I32: DDS | J32: 20 | K32: pasang | L32: 100000 | M32: =J32*L32 -> 2000000 | O32: =#REF! -> #REF! | P32: dds
E33: 5 | F33: kaos kaki untuk anak TK | I33: DDS | J33: 20 | K33: pasang | L33: 25000 | M33: =J33*L33 -> 500000 | O33: dds | P33: =O27+O28+O29+O30+O32 -> #REF!
E34: 6 | F34: Dasi | I34: DDS | J34: 20 | K34: buah | L34: 25000 | M34: =J34*L34 -> 500000
E35: 7 | F35: Topi | I35: DDS | J35: 20 | K35: buah | L35: 25000 | M35: =J35*L35 -> 500000
C36: 5.2.1.91. | D36: Belanja jasa Upah Kerja (upah Kerja tukang,pekerja,dll) | M36: =SUM(M37:M37) -> 12000000 | P36: =O17+O31 -> 187614000
E37: 1 | F37: Upah Tutor / GuruTK 2 org x 12 ob | I37: DDS | J37: 24 | K37: ob | L37: 500000 | M37: =J37*L37 -> 12000000 | O37: =O29+O31+O32 -> #REF!
C38: b | D38: Sub Bidang Kesehatan | N38: =N39+N52+N73+N91 -> 322283200
C39: 1 | D39: Penyelenggaraan Pos Kesehatan Desa/Polides Milik Desa (Obat,Insentif,KB,dst) | N39: =M40+M44+M47+M49 -> 14150000
C40: 5.2.1.06. | D40: Belanja barang komsumsi (Makan dan Minum) | M40: =SUM(M41:M43) -> 3200000
E41: 1 | F41: Nasi bungkus | I41: DDS | J41: 135 | K41: bks | L41: 15000 | M41: =J41*L41 -> 2025000
E42: 2 | F42: Snek | I42: DDS | J42: 135 | K42: bks | L42: 5000 | M42: =J42*L42 -> 675000
E43: 3 | F43: Air mineral gelas | I43: DDS | J43: 10 | K43: dus | L43: 50000 | M43: =J43*L43 -> 500000
C44: 5.2.3.01. | D44: Belanja perjalanan Dinas dalam Kabupaten | M44: =SUM(M45:M46) -> 1150000
E45: 1 | F45: Ke Tingkat kecamatan | I45: DDS | J45: 6 | K45: kali | L45: 75000 | M45: =J45*L45 -> 450000
E46: 2 | F46: Ke Tingkat Kabupaten | I46: DDS | J46: 2 | K46: Kali | L46: 350000 | M46: =J46*L46 -> 700000
C47: 5.2.4.03. | D47: Belanja Jasa sewa Sarana Mobilitas | M47: =M48 -> 200000
E48: 1 | F48: Sewa boat perjalanan dinas ke kabupaten | I48: DDS | J48: 2 | K48: pp | L48: 100000 | M48: =J48*L48 -> 200000
C49: 5.2.5.91. | D49: Belanja jasa Upah Kerja (upah Kerja tukang,pekerja,dll) | M49: =SUM(M50:M51) -> 9600000
E50: 1 | F50: Upah Kerja petugas Kader Pembangunan Manusia | I50: DDS | J50: 24 | K50: ob | L50: 100000 | M50: =J50*L50 -> 2400000
E51: 2 | F51: Upah Kerja petugas pemeriksa jentik nyamuk | I51: DDS | J51: 72 | K51: ob | L51: 100000 | M51: =J51*L51 -> 7200000
C52: 2 | D52: Penyelenggaraan Posyandu (Mkn Tambahan,Kls Bumil,Lansia,Insentif | N52: =M53+M55+M64+M69+M71 -> 175868600
C53: 5.2.1.01 | D53: Belanja Alat Tulis Kantor dan Benda Pos | M53: =SUM(M54:M54) -> 100000
E54: 1 | F54: Materai 10000 | I54: DDS | J54: 10 | K54: lbr | L54: 10000 | M54: =J54*L54 -> 100000
C55: 5.2.5.01 | D55: Belanja Barang Konsumsi | M55: =SUM(M56:M63) -> 49153600
E56: 1 | F56: Kacang Ijo Bahan Bubur 80 Balita x 12 Bulan | I56: DDS | J56: 96 | K56: Kg | L56: 29500 | M56: =J56*L56 -> 2832000
E57: 2 | F57: Injin Bahan Bubur 80 Balita x 12 Bln | I57: DDS | J57: 96 | K57: Kg | L57: 29500 | M57: =J57*L57 -> 2832000
E58: 3 | F58: Beras Untuk Bubur 80 Balita x 6 Bulan | I58: DDS | J58: 96 | K58: Kg | L58: 14100 | M58: =J58*L58 -> 1353600
E59: 4 | F59: susu Balita 400gr | I59: DDS | J59: 800 | K59: ktk | L59: 46500 | M59: =J59*L59 -> 37200000
E60: 5 | F60: Gula Pasir | I60: DDS | J60: 48 | K60: Kg | L60: 24500 | M60: =J60*L60 -> 1176000
E61: 6 | F61: Kelapa | I61: DDS | J61: 96 | K61: btr | L61: 5000 | M61: =J61*L61 -> 480000
E62: 7 | F62: Plastik 1 kg | I62: DDS | J62: 12 | K62: glng | L62: 5000 | M62: =J62*L62 -> 60000
E63: 8 | F63: Susu Ibu Hamil 400 gram | I63: DDS | J63: 35 | K63: ktk | L63: 92000 | M63: =J63*L63 -> 3220000
C64: 5.2.5.01 | D64: Belanja Jasa Upah Kerja | M64: =SUM(M65:M68) -> 36450000
E65: 1 | F65: Ketua Tim Pengadaan Barang dan Jasa | G65: Ketua Tim Pengadaan Barang dan Jasa | H65: Ketua Tim Pengadaan Barang dan Jasa | I65: DDS | J65: 1 | K65: ob | L65: 160000 | M65: =J65*L65 -> 160000
E66: 2 | F66: Sekretaris tim Pengadaan Barang dan Jasa | G66: Sekretaris tim Pengadaan Barang dan Jasa | H66: Sekretaris tim Pengadaan Barang dan Jasa | I66: DDS | J66: 1 | K66: ob | L66: 150000 | M66: =J66*L66 -> 150000
E67: 3 | F67: Angota Tim Pengadaan Barang dan Jasa | G67: Angota Tim Pengadaan Barang dan Jasa | H67: Angota Tim Pengadaan Barang dan Jasa | I67: DDS | J67: 1 | K67: ob | L67: 140000 | M67: =J67*L67 -> 140000
E68: 4 | F68: Upah Kerja Kader Posyandu | G68: Upah Kerja Kader Posyandu | H68: Upah Kerja Kader Posyandu | I68: DDS | J68: 360 | K68: Kali | L68: 100000 | M68: =J68*L68 -> 36000000
C69: 5.2.5.91 | D69: Belanja Pakaian Kerja Lapangan | M69: =SUM(M70:M70) -> 3450000
E70: 1 | F70: Pakaian Kader Posyandu | G70: Pakaian Kader Posyandu | H70: Pakaian Kader Posyandu | I70: DDS | J70: 30 | K70: buah | L70: 115000 | M70: =J70*L70 -> 3450000
C71: 5.2.7.99 | D71: Belanja Barang Untuk Diserahkan Kpd Masyarakat Lainnya | M71: =SUM(M72:M72) -> 86715000
E72: 1 | F72: Beras Untuk Lansia 5 Kg x 123 Orang x 10 Bln | I72: DDS | J72: 1230 | K72: zak | L72: 70500 | M72: =J72*L72 -> 86715000
C73: 3 | D73: Penyelenggaraan Desa Siaga Kesehatan | N73: =M74+M77+M82+M88 -> 113400000 | O73: =N73-O85-O88 -> 4200000
C74: 5.2.1.04. | D74: Belanja bahan bakar minyak/isi ulang | M74: =SUM(M75:M76) -> 900000
E75: 1 | F75: Bensin | I75: DDS | J75: 50 | K75: ltr | L75: 10000 | M75: =J75*L75 -> 500000
E76: 2 | F76: minyak pelumas | I76: DDS | J76: 8 | K76: ltr | L76: 50000 | M76: =J76*L76 -> 400000
C77: 5.2.1.06. | D77: Belanja Barang Konsumsi (Makan/Minum) | M77: =SUM(M78:M81) -> 3300000
E78: 1 | F78: Nasi keg.untuk mendata Ik & Indikator RT sehat | I78: DDS | J78: 20 | K78: bks | L78: 15000 | M78: =J78*L78 -> 300000
E79: 2 | F79: Air Mineral Gelas | I79: DDS | J79: 24 | K79: dus | L79: 50000 | M79: =J79*L79 -> 1200000
E80: 3 | F80: Nasi pertemuan Relawan Covid-19 | I80: DDS | J80: 90 | K80: bks | L80: 15000 | M80: =J80*L80 -> 1350000
E81: 4 | F81: Snek pertemuan Relawan Covid-19 | I81: DDS | J81: 90 | K81: bks | L81: 5000 | M81: =J81*L81 -> 450000
C82: 5.2.1.07. | D82: Belanja bahan material | M82: =SUM(M83:M87) -> 71400000 | O82: =M82-O85 -> 42650000
E83: 1 | F83: Masker | I83: BHP | J83: 10 | K83: ktk | L83: 85000 | M83: =J83*L83 -> 850000
E84: 2 | F84: Desinfektan & Sanitizer isi 1 liter | I84: BHP | J84: 200 | K84: ltr | L84: 200000 | M84: =J84*L84 -> 40000000
E85: 3 | F85: Benzaklin | I85: ADD | J85: 150 | K85: ltr | L85: 185000 | M85: =J85*L85 -> 27750000 | O85: =M85+M87 -> 28750000
E86: 4 | F86: Hand Sanitizer isi 500 ml | I86: BHP | J86: 20 | K86: btl | L86: 90000 | M86: =J86*L86 -> 1800000
E87: 5 | F87: Hand Sanitizer isi 100 ml | I87: ADD | J87: 20 | K87: btl | L87: 50000 | M87: =J87*L87 -> 1000000
C88: 5.2.5.91. | D88: Belanja jasa Upah Kerja (upah Kerja tukang,pekerja,dll) | M88: =SUM(M89:M90) -> 37800000 | O88: =M88+O82 -> 80450000
E89: 1 | F89: Upah Kerja Kader Desa Siaga 2 orang | I89: BHP | J89: 24 | K89: ob | L89: 100000 | M89: =J89*L89 -> 2400000
E90: 2 | F90: Upah Kerja Tukang Semprot dampak Covid-19 | I90: BHP | J90: 236 | K90: ob | L90: 150000 | M90: =J90*L90 -> 35400000
C91: 4 | D91: Pembangunan/Rehabilitasi/Peningkatan/Pengadaan Sarana/Prasarana Alat Posyandu | N91: =M94+M92 -> 18864600
C92: 5.2.4.03. | D92: Belanja Jasa sewa Sarana Mobilitas | M92: =M93 -> 240000
E93: 1 | F93: Sewa Mobil Kirim peralatan atat timbang | I93: DDS | J93: 6 | K93: unit | L93: 40000 | M93: =J93*L93 -> 240000
C94: 5.3.2.06. | D94: Belanja Modal peralatan alat ukur | M94: =SUM(M95:M99) -> 18624600
E95: 1 | F95: Alat ukur timbang berat badan balita | I95: DDS | J95: 6 | K95: unit | L95: 306625 | M95: =J95*L95 -> 1839750
E96: 2 | F96: Pita Lila | I96: DDS | J96: 6 | K96: Unit | L96: 16725 | M96: =J96*L96 -> 100350
E97: 3 | F97: Alat ukur lingkar badan balita | I97: DDS | J97: 6 | K97: unit | L97: 55750 | M97: =J97*L97 -> 334500
E98: 4 | F98: Alat ukur tinggi badan balita | I98: DDS | J98: 6 | K98: unit | L98: 2700000 | M98: =J98*L98 -> 16200000
E99: 5 | F99: Alat ukur tikar stanting balita 6 posyandu x 1 bh | I99: DDS | J99: 6 | K99: buah | L99: 25000 | M99: =J99*L99 -> 150000
C100: c | D100: Sub bidang Pekerjaan Umum dan Penataan Ruang | N100: =N101 -> 160544000
...

Sheet Upah (PERBUP 15)
B1: UPAH KERJA TIM BERDASARKAN PERBUP 15 TAHUN 2015
A2: Kegiatan Pembinaan, Bimbingan, penataran, pelatihan, monitoring dan sejenisnya
A3: 1 | B3: 25000000
B4: 80000 | C4: Penanggng jawab
B5: 75000 | C5: Ketua
B6: 70000 | C6: Sekretaris
B7: 65000 | C7: Anggota
A8: 2 | B8: 25000000 | C8: s/d | D8: 50000000 | E8: 50000000
B9: 90000 | C9: Penanggng jawab
B10: 85000 | C10: Ketua
B11: 80000 | C11: Sekretaris
B12: 75000 | C12: Anggota
A13: 3 | B13: 50000000 | C13: s/d | D13: 75000000 | E13: 75000000
B14: 110000 | C14: Penanggng jawab
B15: 105000 | C15: Ketua
B16: 100000 | C16: Sekretaris
B17: 95000 | C17: Anggota
A18: 4 | B18: 75000000 | C18: s/d | D18: 100000000 | E18: 100000000
B19: 150000 | C19: Penanggng jawab
B20: 140000 | C20: Ketua
B21: 135000 | C21: Sekretaris
B22: 130000 | C22: Anggota
A23: 5 | B23: 100000000 | C23: s/d | D23: 200000000 | E23: 200000000
B24: 165000 | C24: Penanggng jawab
B25: 150000 | C25: Ketua
B26: 140000 | C26: Sekretaris
B27: 135000 | C27: Anggota
A28: 6 | B28: 200000000 | C28: keatas
B29: 170000 | C29: Penanggng jawab
B30: 155000 | C30: Ketua
B31: 150000 | C31: Sekretaris
B32: 145000 | C32: Anggota
A33: Kegiatan Pengadaan Barang/jasa
A34: 1 | B34: 25000000
B35: 80000 | C35: Penanggng jawab
B36: 75000 | C36: Ketua
B37: 70000 | C37: Sekretaris
B38: 65000 | C38: Anggota
A39: 2 | B39: 25000000 | C39: s/d | D39: 50000000 | E39: 50000000
B40: 85000 | C40: Penanggng jawab
B41: 75000 | C41: Ketua
B42: 70000 | C42: Sekretaris
B43: 65000 | C43: Anggota
A44: 3 | B44: 50000000 | C44: s/d | D44: 75000000 | E44: 75000000
B45: 90000 | C45: Penanggng jawab
B46: 85000 | C46: Ketua
B47: 80000 | C47: Sekretaris
B48: 75000 | C48: Anggota
A51: 4 | B51: 75000000 | C51: s/d | D51: 100000000 | E51: 100000000
B52: 130000 | C52: Penanggng jawab
B53: 120000 | C53: Ketua
B54: 115000 | C54: Sekretaris
B55: 105000 | C55: Anggota
A56: 5 | B56: 100000000 | C56: s/d | D56: 200000000 | E56: 200000000
B57: 150000 | C57: Penanggng jawab
B58: 140000 | C58: Ketua
B59: 130000 | C59: Sekretaris
B60: 125000 | C60: Anggota
A61: 6 | B61: 200000000 | C61: s/d | D61: 500000000 | E61: 500000000
B62: 165000 | C62: Penanggng jawab
B63: 155000 | C63: Ketua
B64: 150000 | C64: Sekretaris
B65: 140000 | C65: Anggota
A66: 7 | B66: 500000000 | C66: keatas
B67: 175000 | C67: Penanggng jawab
B68: 160000 | C68: Ketua
B69: 155000 | C69: Sekretaris
B70: 145000 | C70: Anggota

Sheet Sheet1
A1: ='Pagu indikatif'!#REF!+'Pagu indikatif'!#REF! -> #REF!
A2: ='Pagu indikatif'!#REF!+'Pagu indikatif'!#REF! -> #REF!
