Workbook

Sheet RKP DESA
C1: RANCANGAN RENCANA KERJA PEMERINTAH DESA (RKP DESA)
C2: TAHUN : 2020
C3: DESA | E3: :SEKARTAJI | K3: KABUPATEN | M3: : KLUNGKUNG
C4: KECAMATAN | E4: :NUSA PENIDA | K4: PROVINSI | M4: : BALI
C5: No. | D5: Bidang / Jenis Kegiatan | G5: Lokasi | H5: Volume | I5: Sasaran / Manfaat | J5: Waktu | K5: Biaya dan Sumber | M5: Pola Pelaksanaan | P5: Rencana Pelaksanaan Kegiatan
K6: Pembiayaan
D7: Bidang | F7: Jenis Kegiatan | J7: Pelaksanaan | K7: Jumlah (RP) | L7: Sumber | M7: Swa. | N7: Kerja sama antar desa | O7: Kerja sama pihak ketiga
C9: a | D9: b | E9: c | F9: d | G9: e | H9: f | I9: g | J9: h | K9: i | L9: j | M9: k | N9: l | O9: m | P9: n
C10: 1 | D10: ='Pagu indikatif'!D8 -> PENYELENGGARAAN PEMERINTAHAN DESA | E10: 1 | F10: ='DAFTAR USULAN'!E10 -> Penyelenggaraan Belanja Siltap, Tunjangan dan Operasional Pemerintahan Desa | K10: =SUM(K11:K16) -> 9.028288e+08
E11: 1.1 | F11: ='DAFTAR USULAN'!F11 -> Penyediaan Penghasilan Tetap & Tunjangan Perbekel | G11: Ds. Sekartaji | H11: ='DAFTAR USULAN'!I11 -> 1 Orang | I11: ='DAFTAR USULAN'!J11 -> Terbayarnya siltap dan tunjangan Perbekel | J11: 1 thn | K11: ='DAFTAR USULAN'!L11 -> 63600000 | L11: ADD | M11: Swa. | P11: Jan s/d Des
E12: 1.2 | F12: ='DAFTAR USULAN'!F12 -> Penyediaan Penghasilan Tetap & Tunjangan Perangkat Desa | G12: Ds. Sekartaji | H12: ='DAFTAR USULAN'!I12 -> 13 Orang | I12: ='DAFTAR USULAN'!J12 -> Terbayarnya siltap dan tunjangan perangkat desa | J12: 1 thn | K12: ='DAFTAR USULAN'!L12 -> 514000000 | L12: ADD | M12: Swa. | P12: =P11 -> Jan s/d Des
E13: 1.3 | F13: ='DAFTAR USULAN'!F13 -> Penyediaan Jaminan Sosial Perbekel dan Perangkat Desa | G13: Ds. Sekartaji | H13: 14 Orang | I13: ='DAFTAR USULAN'!J13 -> terbayarnya jaminan sosial perbekel dan perangkat desa | J13: 1 thn | K13: ='DAFTAR USULAN'!L13 -> 36166221 | L13: ADD | M13: Swa. | P13: =P12 -> Jan s/d Des
E14: 1.4 | F14: ='DAFTAR USULAN'!F14 -> Penyediaan Operasional Pemerintah Desa (ATK,Honor PKPKD dan PPKD dll)) | G14: Ds. Sekartaji | H14: ='DAFTAR USULAN'!I14 -> 1 paket | I14: ='DAFTAR USULAN'!J14 -> Lancarnya keg. Operasional kantor | J14: 1 thn | K14: ='DAFTAR USULAN'!L14 -> 2.3509758e+08 | L14: ADD | M14: Swa. | P14: Jan.s/d Des
E15: 1.5 | F15: ='DAFTAR USULAN'!F15 -> Penyediaan Tunjangan BPD | G15: Ds. Sekartaji | H15: ='DAFTAR USULAN'!I15 -> 7 Orang | I15: ='DAFTAR USULAN'!J15 -> terbayarnya tunjangan kedudukan BPD | J15: 1 thn | K15: ='DAFTAR USULAN'!L15 -> 20400000 | L15: ADD | M15: Swa. | P15: =P14 -> Jan.s/d Des
E16: 1.6 | F16: ='DAFTAR USULAN'!F16 -> Penyediaan Operasional BPD (rapat,ATK,makan minum,pakaian seragam, listrik dll) | G16: Ds. Sekartaji | H16: ='DAFTAR USULAN'!I16 -> 7 Orang | I16: ='DAFTAR USULAN'!J16 -> Lancarnya keg. Operasional BPD | J16: 1 thn | K16: ='DAFTAR USULAN'!L16 -> 33565000 | L16: ADD | M16: Swa. | P16: =P15 -> Jan.s/d Des
E17: 2 | F17: ='DAFTAR USULAN'!E17 -> Penyediaan Sarana dan Prasarana Pemerintahan Desa | K17: =SUM(K18:K19) -> 23588000
E18: 2.1 | F18: ='DAFTAR USULAN'!F18 -> Penyediaan Sarana (Aset Tetap) Perkantoran/Pemerintahan | G18: Ds. Sekartaji | H18: ='DAFTAR USULAN'!I18 -> 1 paket | I18: ='DAFTAR USULAN'!J18 -> Tersedianya sarana perkantoran | J18: ='DAFTAR USULAN'!K19 -> 1 thn | K18: ='DAFTAR USULAN'!L18 -> 5988000 | L18: ADD | M18: Swa. | P18: Jan.s/d Des
E19: 2.2 | F19: ='DAFTAR USULAN'!F19 -> Pemeliharaan Gedung/Prasarana Kantor Desa | G19: Ds. Sekartaji | H19: ='DAFTAR USULAN'!I19 -> 1 paket | I19: ='DAFTAR USULAN'!J19 -> Tersedianya sarana perkantoran | J19: ='DAFTAR USULAN'!K19 -> 1 thn | K19: ='Pagu indikatif'!G18 -> 17600000 | L19: ADD | M19: Swa. | P19: =P18 -> Jan.s/d Des
E20: 3 | F20: ='Pagu indikatif'!D19 -> Pengelolaan Administrasi Kependudukan, Pencatatan Sipil, Statistik dan Kearsipan | K20: =K21 -> 3702000
E21: 3.1 | F21: ='Pagu indikatif'!E20 -> Penyusunan, Pendataan, dan Pemutakhiran Profil Desa | G21: Ds. Sekartaji | H21: ='DAFTAR USULAN'!I21 -> 1 paket | I21: ='DAFTAR USULAN'!J21 -> Lancarnya keg. Pemutahiran profil desa | J21: ='DAFTAR USULAN'!K21 -> 1 thn | K21: ='RABSUB.1'!O197 -> 3702000 | L21: ADD | M21: Swa. | P21: =P19 -> Jan.s/d Des
E22: 4 | F22: ='Pagu indikatif'!D21 -> Penyelenggaraan Tata Praja Pemerintahan,Perencanaan,Keuangan dan Pelaporan | K22: =SUM(K23:K27) -> 74512000
E23: 4.1 | F23: ='Pagu indikatif'!E22 -> Penyelenggaraan Musyawarah Perencanaan Desa/Pembahasan APBDES (Reguler) | G23: Ds. Sekartaji | H23: ='DAFTAR USULAN'!I23 -> 1 paket | I23: ='DAFTAR USULAN'!J23 -> Lancarnya keg. Musyawarah desa reguler | J23: ='DAFTAR USULAN'!K23 -> 1 thn | K23: ='RABSUB.1'!O211 -> 12540000 | L23: ADD | M23: Swa. | P23: =P21 -> Jan.s/d Des
E24: 4.2 | F24: ='Pagu indikatif'!E23 -> Penyusunan Dokumen Perencanaan Desa (RPJM Desa/RKP Desa Dll) | G24: Ds. Sekartaji | H24: ='DAFTAR USULAN'!I24 -> 1 paket | I24: ='DAFTAR USULAN'!J24 -> Lancarnya keg. Penyusunan RPJMDesa/RKP Desa | J24: ='DAFTAR USULAN'!K24 -> 6 bln | K24: ='DAFTAR USULAN'!L24 -> 4389000 | L24: ADD | M24: Swa. | P24: Juli s/d Des
E25: 4.3 | F25: ='Pagu indikatif'!E24 -> Penyusunan Dokumen Keuangan Desa(APBDes,APBDes Perubahan, LPJ dll) | G25: Ds. Sekartaji | H25: ='DAFTAR USULAN'!I25 -> 1 paket | I25: ='DAFTAR USULAN'!J25 -> Lancarnya keg. Penyusunan Dokumen Keuangan | J25: ='DAFTAR USULAN'!K25 -> 1 thn | K25: ='DAFTAR USULAN'!L25 -> 3539000 | L25: ADD | M25: Swa. | P25: =P23 -> Jan.s/d Des
E26: 4.4 | F26: ='Pagu indikatif'!E25 -> Penyusunan Laporan Kepala Desa, LPPDesa dan Informasi Kepada masyarakat | G26: Ds. Sekartaji | H26: ='DAFTAR USULAN'!I26 -> 1 paket | I26: ='DAFTAR USULAN'!J26 -> Lancarnya penyusunan laporan kepala desa,LPPDesa | J26: ='DAFTAR USULAN'!K26 -> 1 thn | K26: ='DAFTAR USULAN'!L26 -> 3689000 | L26: ADD | M26: Swa. | P26: Jan.s/d Des
E27: 4.5 | F27: ='Pagu indikatif'!E26 -> Dukungan dan Sosialisasi Pelaksanaan Pilkades, Pemilihan Ka Kewilayahan & BPD | G27: Ds. Sekartaji | H27: 1 paket | I27: Lancarnya sosialisasi dan pilkel | J27: 6 bln | K27: ='Pagu indikatif'!G26 -> 50355000 | L27: ADD | M27: Swa. | P27: Jan.s/d Des
I28: SUB JUMLAH BIDANG 1 | K28: =K10+K17+K20+K22 -> 1.0046308e+09
C29: 2 | D29: ='Pagu indikatif'!D28 -> BIDANG PEMBANGUNAN | E29: 1 | F29: ='Pagu indikatif'!D29 -> Sub Bidang Pendidikan | K29: =SUM(K30:K30) -> 27070000
E30: 1.1 | F30: ='DAFTAR USULAN'!F31 -> Penyelenggaraan PAUD/TK/TKA/TPQ/Madrasah Non Formal Milik Desa | G30: Ds. Sekartaji | H30: ='DAFTAR USULAN'!I31 -> 1 Paket | I30: ='DAFTAR USULAN'!J31 -> Terslenggaranya Pendidikan Anak PAUD | J30: 1 thn | K30: ='DAFTAR USULAN'!L31 -> 27070000 | L30: DDS | M30: Swa. | P30: Jan.s/d Des
E31: 1.2 | F31: ='DAFTAR USULAN'!F32 -> Dukungan Pendidikan bagi Siswa Miskin/Berprestasi
E32: 2 | F32: ='Pagu indikatif'!D32 -> Sub Bidang Kesehatan | K32: =SUM(K33:K37) -> 322283200
E33: 2.1 | F33: ='Pagu indikatif'!E33 -> Penyelenggaraan Pos Kesehatan Desa/Polides Milik Desa (Obat,Insentif,KB,dst) | G33: ='DAFTAR USULAN'!H34 -> Setiap dusun | H33: ='DAFTAR USULAN'!I34 -> 1 paket | I33: ='DAFTAR USULAN'!J34 -> Terslenggaranya Pemeriksaan Jentik Nyamuk & kelancaran Administrasi | J33: ='DAFTAR USULAN'!K34 -> 12 bln | K33: ='DAFTAR USULAN'!L34 -> 14150000 | L33: DDS | M33: Swa. | P33: Jan.s/d Des
E34: 2.2 | F34: ='Pagu indikatif'!E34 -> Penyelenggaraan Posyandu (Mkn Tambahan,Kls Bumil,Lansia,Insentif | G34: Ds. Sekartaji | H34: ='DAFTAR USULAN'!H35 -> Setiap dusun | I34: ='DAFTAR USULAN'!J35 -> Terslenggaranya pencegahan Stanting,Kesehatan Lansia dan Balita | J34: ='DAFTAR USULAN'!K35 -> 10 bln | K34: ='DAFTAR USULAN'!L35 -> 175868600 | L34: DDS | M34: Swa. | P34: Mei.s/d Jul
E35: 2.3 | F35: ='DAFTAR USULAN'!F36 -> Penyelenggaraan Desa Siaga Kesehatan | G35: ='DAFTAR USULAN'!H36 -> Setiap dusun | H35: ='DAFTAR USULAN'!I36 -> 1 paket | I35: ='DAFTAR USULAN'!J36 -> Terslenggarnya Pendataan kesehatan warga. | J35: ='DAFTAR USULAN'!K36 -> 12 bln | K35: ='DAFTAR USULAN'!L36 -> 113400000 | L35: DDS,ADD,BHP | M35: Swa. | P35: Jan s/d Des
E36: 2.4 | F36: ='DAFTAR USULAN'!F37 -> Pengasuhan Bersama atau Bina Keluarga Balita (BKB)
E37: 2.5 | F37: ='Pagu indikatif'!E37 -> Pembangunan/Rehabilitasi/Peningkatan/Pengadaan Sarana/Prasarana Alat Posyandu | G37: ='DAFTAR USULAN'!H38 -> Setiap dusun | H37: ='DAFTAR USULAN'!I38 -> 3 paket | I37: ='DAFTAR USULAN'!J38 -> Peralatan kesehatan Posyandu/Polindes/PKD | J37: ='DAFTAR USULAN'!K38 -> 1 bln | K37: ='DAFTAR USULAN'!L38 -> 18864600 | L37: DDS | M37: Swa. | P37: 1 s/d 28 Pebruari
E38: 2.6 | F38: ='Pagu indikatif'!E38 -> Penyelenggaraan Bina Keluarga Lansia (BKL)
E39: 3 | F39: ='DAFTAR USULAN'!E40 -> Sub bidang Pekerjaan Umum dan Penataan Ruang | K39: =SUM(K40:K44) -> 160544000
E40: 3.1 | F40: ='DAFTAR USULAN'!F41 -> Kelanjutan Pembangunan/Rehabilitasi/Peningkatan Balai Desa/Balai Kemasyarakatan | G40: ='DAFTAR USULAN'!H41 -> Dsn. Sekartaji | H40: ='DAFTAR USULAN'!I41 -> 12 m x 22 m | I40: ='DAFTAR USULAN'!J41 -> Memperlancar terslenggaranya tempat pertemuan Masyarakat | J40: ='DAFTAR USULAN'!K41 -> 6 bln | K40: ='DAFTAR USULAN'!L41 -> 160544000 | L40: ADD,PBH,DLL | M40: Swa. | P40: Juli s/d Nop
E41: 3.2 | F41: ='DAFTAR USULAN'!F42 -> Pembangunan /Rehabilitasi /Peningkatan/Pengerasan Jalan Lingkungan Pemukiman Dsn Sekartaji | G41: ='DAFTAR USULAN'!H42 -> Dsn. Sekartaji | H41: ='DAFTAR USULAN'!I42 -> 1 paket | I41: ='DAFTAR USULAN'!J42 -> memperlancar arus transportasi jalan | J41: ='DAFTAR USULAN'!K42 -> 5 bln | K41: 0 | M41: Swa.
...

Sheet DAFTAR USULAN
B1: DAFTAR USULAN RKP DESA
B2: KEGIATAN TAHUN : 2020
B3: DESA | G3: : SEKARTAJI | J3: KABUPATEN | K3: : KLUNGKUNG
B4: KECAMATAN | G4: : NUSA PENIDA | J4: PROVINSI | K4: : BALI
B5: No | C5: Bidang / Jenis Kegiatan | H5: Lokasi | I5: Vol. | J5: Sasaran /Manfaat | K5: Prakiraan Waktu Pelaksanaan | L5: Prakiraan Biaya dan Jumlah RP.
C7: Bidang | D7: Jenis Kegiatan
B9: 1 | C9: ='RABSUB.1'!D5 -> PENYELENGGARAAN PEMERINTAHAN DESA | L9: =L10+L17+L20+L22 -> 1.0046308e+09
D10: a | E10: ='RABSUB.1'!E6 -> Penyelenggaraan Belanja Siltap, Tunjangan dan Operasional Pemerintahan Desa | L10: =SUM(L11:L16) -> 9.028288e+08
E11: 1 | F11: ='RABSUB.1'!E7 -> Penyediaan Penghasilan Tetap & Tunjangan Perbekel | H11: Ds. Sekartaji | I11: 1 Orang | J11: Terbayarnya siltap dan tunjangan Perbekel | K11: 1 thn | L11: ='RABSUB.1'!O7 -> 63600000
E12: 2 | F12: ='RABSUB.1'!E16 -> Penyediaan Penghasilan Tetap & Tunjangan Perangkat Desa | H12: Ds. Sekartaji | I12: 13 Orang | J12: Terbayarnya siltap dan tunjangan perangkat desa | K12: 1 thn | L12: ='RABSUB.1'!O16 -> 514000000
E13: 3 | F13: ='RABSUB.1'!E34 -> Penyediaan Jaminan Sosial Perbekel dan Perangkat Desa | H13: Ds. Sekartaji | I13: 14 Orang | J13: terbayarnya jaminan sosial perbekel dan perangkat desa | K13: 1 thn | L13: ='RABSUB.1'!O34 -> 36166221
E14: 4 | F14: ='RABSUB.1'!E49 -> Penyediaan Operasional Pemerintah Desa (ATK,Honor PKPKD dan PPKD dll)) | H14: Ds. Sekartaji | I14: 1 paket | J14: Lancarnya keg. Operasional kantor | K14: 1 thn | L14: ='RABSUB.1'!O49 -> 2.3509758e+08
E15: 5 | F15: ='RABSUB.1'!E156 -> Penyediaan Tunjangan BPD | H15: Ds. Sekartaji | I15: 7 Orang | J15: terbayarnya tunjangan kedudukan BPD | K15: 1 thn | L15: ='RABSUB.1'!O156 -> 20400000
E16: 6 | F16: ='RABSUB.1'!E162 -> Penyediaan Operasional BPD (rapat,ATK,makan minum,pakaian seragam, listrik dll) | H16: Ds. Sekartaji | I16: 7 Orang | J16: Lancarnya keg. Operasional BPD | K16: 1 thn | L16: ='RABSUB.1'!O162 -> 33565000
D17: b | E17: ='RABSUB.1'!E184 -> Penyediaan Sarana dan Prasarana Pemerintahan Desa | L17: =SUM(L18:L19) -> 23588000
E18: 1 | F18: ='RABSUB.1'!E185 -> Penyediaan Sarana (Aset Tetap) Perkantoran/Pemerintahan | H18: Ds. Sekartaji | I18: 1 paket | J18: Tersedianya sarana perkantoran | K18: 1 thn | L18: ='RABSUB.1'!O185 -> 5988000
E19: 2 | F19: ='RABSUB.1'!E189 -> Pemeliharaan Gedung/Prasarana Kantor Desa | H19: Ds. Sekartaji | I19: 1 paket | J19: Tersedianya sarana perkantoran | K19: 1 thn | L19: ='RABSUB.1'!O189 -> 17600000
D20: c | E20: ='RABSUB.1'!E197 -> Pengelolaan Administrasi Kependudukan, Pencatatan Sipil, Statistik dan Kearsipan | L20: =L21 -> 3702000
E21: 1 | F21: ='RABSUB.1'!E198 -> Penyusunan, Pendataan, dan Pemutakhiran Profil Desa | H21: Ds. Sekartaji | I21: 1 paket | J21: Lancarnya keg. Pemutahiran profil desa | K21: 1 thn | L21: ='RABSUB.1'!O198 -> 3702000
D22: d | E22: ='RABSUB.1'!E210 -> Penyelenggaraan Tata Praja Pemerintahan,Perencanaan,Keuangan dan Pelaporan | L22: =SUM(L23:L27) -> 74512000
E23: 1 | F23: ='RABSUB.1'!E211 -> Penyelenggaraan Musyawarah Perencanaan Desa/Pembahasan APBDES (Reguler) | H23: Ds. Sekartaji | I23: 1 paket | J23: Lancarnya keg. Musyawarah desa reguler | K23: 1 thn | L23: ='RABSUB.1'!O211 -> 12540000
E24: 2 | F24: ='RABSUB.1'!E222 -> Penyusunan Dokumen Perencanaan Desa (RPJM Desa/RKP Desa Dll) | H24: Ds. Sekartaji | I24: 1 paket | J24: Lancarnya keg. Penyusunan RPJMDesa/RKP Desa | K24: 6 bln | L24: ='RABSUB.1'!O222 -> 4389000
E25: 3 | F25: ='RABSUB.1'!E241 -> Penyusunan Dokumen Keuangan Desa(APBDes,APBDes Perubahan, LPJ dll) | H25: Ds. Sekartaji | I25: 1 paket | J25: Lancarnya keg. Penyusunan Dokumen Keuangan | K25: 1 thn | L25: ='RABSUB.1'!O241 -> 3539000
E26: 4 | F26: ='RABSUB.1'!E252 -> Penyusunan Laporan Kepala Desa, LPPDesa dan Informasi Kepada masyarakat | H26: Ds. Sekartaji | I26: 1 paket | J26: Lancarnya penyusunan laporan kepala desa,LPPDesa | K26: 1 thn | L26: ='RABSUB.1'!O252 -> 3689000
E27: 5 | F27: ='RABSUB.1'!E264 -> Dukungan dan Sosialisasi Pelaksanaan Pilkades, Pemilihan Ka Kewilayahan & BPD | H27: Ds. Sekartaji | I27: 1 paket | J27: Lancarnya sosialisasi dan pilkel | K27: 6 bln | L27: ='RABSUB.1'!O264 -> 50355000
B28: SUB JUMLAH. 1 | L28: =L22+L20+L17+L10 -> 1.0046308e+09
B29: 2 | C29: =sub.2!C5 -> BIDANG PELAKSANAAN PEMBANGUNAN DESA | L29: =L53 -> 1387287870
D30: a | E30: =sub.2!D6 -> Sub Bidang Pendidikan | L30: =L31 -> 27070000
E31: 1 | F31: =sub.2!D7 -> Penyelenggaraan PAUD/TK/TKA/TPQ/Madrasah Non Formal Milik Desa | H31: Ds. Sekartaji | I31: 1 Paket | J31: Terslenggaranya Pendidikan Anak PAUD | K31: 1 thn | L31: =sub.2!N7 -> 27070000
E32: 2 | F32: Dukungan Pendidikan bagi Siswa Miskin/Berprestasi
D33: b | E33: =sub.2!D38 -> Sub Bidang Kesehatan | L33: =SUM(L34:L38) -> 322283200
E34: 1 | F34: =sub.2!D39 -> Penyelenggaraan Pos Kesehatan Desa/Polides Milik Desa (Obat,Insentif,KB,dst) | H34: Setiap dusun | I34: 1 paket | J34: Terslenggaranya Pemeriksaan Jentik Nyamuk & kelancaran Administrasi | K34: 12 bln | L34: =sub.2!N39 -> 14150000
E35: 2 | F35: =sub.2!D52 -> Penyelenggaraan Posyandu (Mkn Tambahan,Kls Bumil,Lansia,Insentif | H35: Setiap dusun | I35: 1 paket | J35: Terslenggaranya pencegahan Stanting,Kesehatan Lansia dan Balita | K35: 10 bln | L35: =sub.2!N52 -> 175868600
E36: 3 | F36: =sub.2!D73 -> Penyelenggaraan Desa Siaga Kesehatan | H36: Setiap dusun | I36: 1 paket | J36: Terslenggarnya Pendataan kesehatan warga. | K36: 12 bln | L36: =sub.2!N73 -> 113400000
E37: 4 | F37: Pengasuhan Bersama atau Bina Keluarga Balita (BKB)
E38: 5 | F38: =sub.2!D91 -> Pembangunan/Rehabilitasi/Peningkatan/Pengadaan Sarana/Prasarana Alat Posyandu | H38: Setiap dusun | I38: 3 paket | J38: Peralatan kesehatan Posyandu/Polindes/PKD | K38: 1 bln | L38: =sub.2!N91 -> 18864600
E39: 6 | F39: Penyelenggaraan Bina Keluarga Lansia (BKL)
D40: c | E40: =sub.2!D100 -> Sub bidang Pekerjaan Umum dan Penataan Ruang | L40: =L41 -> 160544000
E41: 1 | F41: =sub.2!D101 -> Kelanjutan Pembangunan/Rehabilitasi/Peningkatan Balai Desa/Balai Kemasyarakatan | H41: Dsn. Sekartaji | I41: 12 m x 22 m | J41: Memperlancar terslenggaranya tempat pertemuan Masyarakat | K41: 6 bln | L41: =sub.2!N101 -> 160544000
E42: 2 | F42: Pembangunan /Rehabilitasi /Peningkatan/Pengerasan Jalan Lingkungan Pemukiman Dsn Sekartaji | H42: Dsn. Sekartaji | I42: 1 paket | J42: memperlancar arus transportasi jalan | K42: 5 bln
...

Sheet SUB.3, 4
A1: RENCANA ANGGARAN BIAYA BIDANG PEMBINAAN KEMASYARAKATAN
A2: DESA SEKARTAJI
A3: No. | E3: Uraian Kebutuhan | G3: Sumber | H3: Volume | I3: Satuan | J3: Harga RP. | L3: Pagu dana
G4: Dana | J4: Satuan | K4: Jumlah
A5: 3 | B5: BIDANG PEMBINAAN KEMASYARAKATAN | L5: =L6+L15+L141+L195 -> 308748500
B6: a. | C6: Sub Bidang Ketentraman, Ketertiban Umum & Perlindungan Masyarakat | L6: =L7 -> 17400000
B7: 1 | C7: Koordinasi Pembinaan Keamanan, Ketertiban & Perlindungan Masyarakat skala lokal desa | L7: =K8+K12 -> 17400000
B8: 5.2.1.06. | C8: Belanja Barang Konsumsi (makan/Minum) | K8: =SUM(K9:K11) -> 8400000 | M8: =K8+K13 -> 10500000
D9: 1 | E9: Nasi Keg. Ronda Kebersihan Lingkungan | G9: PAD | H9: 360 | I9: bks | J9: 15000 | K9: =H9*J9 -> 5400000
D10: 2 | E10: Snak Keg. Ronda Kebersihan Lingkungan | G10: PAD | H10: 360 | I10: bks | J10: 5000 | K10: =H10*J10 -> 1800000
D11: 3 | E11: Air Mineral Gelas Keg. Ronda | G11: PAD | H11: 24 | I11: dus | J11: 50000 | K11: =H11*J11 -> 1200000
B12: 5.2.1.09. | C12: Belanja Pakaian Kerja Lapangan/Olahraga | K12: =SUM(K13:K14) -> 9000000
D13: 1 | E13: Sepatu Linmas | G13: PAD | H13: 7 | I13: psng | J13: 300000 | K13: =H13*J13 -> 2100000
D14: 2 | E14: Sepatu Linmas | G14: BHP | H14: 23 | I14: psng | J14: 300000 | K14: =H14*J14 -> 6900000
B15: b | C15: Sub Bidang Kebudayaan & Keagamaan | L15: =L16+L64 -> 161313500
B16: 1 | C16: Pengiriman Kontingen Grup Kesenian & Kebudayaan (Wakil Desa tkt Kec/Kab/Kot | L16: =L17 -> 60989000
C17: Lomba Parade Ogoh-ogoh dan Baleganjur | L17: =K18+K27+K43+K46+K49+K56+K58+K60 -> 60989000
B18: 5.2.1.06. | C18: Belanja Barang Konsumsi (makan/Minum) | K18: =SUM(K19:K26) -> 19800000
D19: 1 | E19: Nasi kegiatan pembuatan ogoh-ogoh | G19: ADD | H19: 150 | I19: bks | J19: 15000 | K19: =H19*J19 -> 2250000
D20: 2 | E20: Snek kegiatan pembuatan ogoh-ogoh | G20: ADD | H20: 150 | I20: ktk | J20: 5000 | K20: =H20*J20 -> 750000
D21: 3 | E21: Air mineral gelas kegiatan pembuatan ogoh-ogoh | G21: ADD | H21: 20 | I21: dus | J21: 50000 | K21: =H21*J21 -> 1000000
D22: 4 | E22: Nasi pelatihan gong persiapan pawai ogoh-ogoh | G22: ADD | H22: 770 | I22: bks | J22: 15000 | K22: =H22*J22 -> 11550000
D23: 5 | E23: Snek kegiatan pelatihan gong persiapan ogoh-ogoh | G23: ADD | H23: 350 | I23: ktk | J23: 5000 | K23: =H23*J23 -> 1750000
D24: 6 | E24: Air mineral gelas kegiatan persiapan pawai ogoh-ogoh | G24: ADD | H24: 10 | I24: dus | J24: 50000 | K24: =H24*J24 -> 500000
D25: 7 | E25: Nasi hari kegiatan pawai ogoh-ogoh | G25: ADD | H25: 100 | I25: bks | J25: 15000 | K25: =H25*J25 -> 1500000
D26: 8 | E26: Air mineral gelas kegiatan hari pawai ogoh-ogoh | G26: ADD | H26: 10 | I26: dus | J26: 50000 | K26: =H26*J26 -> 500000
B27: 5.2.1.07. | C27: Belanja bahan Material | K27: =SUM(K28:K42) -> 11420000
D28: 1 | E28: Lem Perekat | G28: ADD | H28: 80 | I28: kg | J28: 55000 | K28: =J28*H28 -> 4400000
D29: 2 | E29: Lem fox | G29: ADD | H29: 20 | I29: kg | J29: 22000 | K29: =J29*H29 -> 440000
D30: 3 | E30: Bambu | G30: ADD | H30: 50 | I30: btg | J30: 30000 | K30: =J30*H30 -> 1500000
D31: 4 | E31: Besi 10mm | G31: ADD | H31: 4 | I31: btg | J31: 65000 | K31: =J31*H31 -> 260000
D32: 5 | E32: Besi 6mm | G32: ADD | H32: 10 | I32: btg | J32: 40000 | K32: =J32*H32 -> 400000
D33: 6 | E33: Kayu usuk 4/6cm | G33: ADD | H33: 10 | I33: btg | J33: 70000 | K33: =J33*H33 -> 700000
D34: 7 | E34: Paku "5-7" | G34: ADD | H34: 4 | I34: kg | J34: 25000 | K34: =J34*H34 -> 100000
D35: 8 | E35: Kertas manila | G35: ADD | H35: 100 | I35: lbr | J35: 3500 | K35: =J35*H35 -> 350000
D36: 9 | E36: Karton | G36: ADD | H36: 50 | I36: lbr | J36: 5000 | K36: =J36*H36 -> 250000
D37: 10 | E37: Kertas presban | G37: ADD | H37: 50 | I37: lbr | J37: 3000 | K37: =J37*H37 -> 150000
D38: 11 | E38: Cat dasar | G38: ADD | H38: 6 | I38: kg | J38: 75000 | K38: =J38*H38 -> 450000
D39: 12 | E39: Cat halus | G39: ADD | H39: 6 | I39: kg | J39: 95000 | K39: =J39*H39 -> 570000
... D42: 15 | E42: Parade oles | G42: ADD | H42: 2 | I42: kopok | J42: 750000 | K42: =J42*H42 -> 1500000
...

Sheet RABSUB.1
D1: RENCANA ANGGARAN BIAYA KEGIATAN PENYELENGGARAAN PEMERINTAHAN DESA
D2: DESA SEKARTAJI
C3: No. | H3: Uraian Kebutuhan | J3: Sumber | K3: Volume | L3: Satuan | M3: Harga RP. | O3: Pagu Anggaran
J4: Dana | M4: Satuan | N4: Jumlah
C5: 1. | D5: PENYELENGGARAAN PEMERINTAHAN DESA | O5: =O6+O184+O197+O210 -> 1.0046308e+09
D6: a | E6: Penyelenggaraan Belanja Siltap, Tunjangan dan Operasional Pemerintahan Desa | O6: =O7+O16+O34+O49+O156+O162 -> 9.028288e+08
D7: 1 | E7: Penyediaan Penghasilan Tetap & Tunjangan Perbekel | O7: =N9+N12 -> 63600000 | R7: 1196904068 | S7: ADD
D8: 5.1.1.01. | E8: Penghasilan Tetap Perbekel | R8: 8.8167076e+08 | S8: SUB 1
E9: 1 | F9: Penghasilan tetap Perbekel | N9: =N10 -> 36000000 | R9: =R7-R8 -> 3.1523331e+08
F10: 1 | G10: Siltap perbekel | J10: ADD | K10: 12 | L10: ob | M10: 3000000 | N10: =M10*K10 -> 36000000
D11: 5.1.102. | E11: Tunjangan Perbekel
E12: 1 | F12: Tunjangan Perbekel | N12: =SUM(N13:N15) -> 27600000
F13: 1 | G13: Tunjangan Beban kerja | J13: ADD | K13: 12 | L13: ob | M13: 1800000 | N13: =K13*M13 -> 21600000
F14: 2 | G14: Tunjangan Gaji ke 13 | J14: ADD | K14: 1 | L14: th | M14: 3000000 | N14: =K14*M14 -> 3000000
F15: 3 | G15: THR Perbekel | J15: ADD | K15: 1 | L15: th | M15: 3000000 | N15: =K15*M15 -> 3000000
D16: 2 | E16: Penyediaan Penghasilan Tetap & Tunjangan Perangkat Desa | O16: =N17+N23 -> 514000000 | R16: =O7+O16+O34+O49 -> 8.488638e+08
D17: 5.1.2.01. | E17: Penghasilan Tetap Perangkat Desa | N17: =SUM(N18:N21) -> 319200000
F18: 1 | G18: Siltap sekdes | J18: ADD | K18: 12 | L18: ob | M18: 2300000 | N18: =K18*M18 -> 27600000
F19: 2 | G19: Siltap 3 orang kaur | J19: ADD | K19: 36 | L19: ob | M19: 2025000 | N19: =K19*M19 -> 72900000
F20: 3 | G20: Siltap 3 orang kasi | J20: ADD | K20: 36 | L20: ob | M20: 2025000 | N20: =K20*M20 -> 72900000
F21: 4 | G21: Siltap 6 orang KBD | J21: ADD | K21: 72 | L21: ob | M21: 2025000 | N21: =K21*M21 -> 145800000
D22: 5.1.2.02. | E22: Tunjangan Perangkat Desa | N22: =N23 -> 194800000
E23: 1 | N23: =SUM(N24:N33) -> 194800000
F24: 1 | G24: Tunjangan Beban Kerja Sekdes | J24: ADD | K24: 12 | L24: ob | M24: 1200000 | N24: =K24*M24 -> 14400000
F25: 3 | G25: Tunjangan Beban Kerja 6 orang (kasi & Kaur) | J25: ADD | K25: 72 | L25: ob | M25: 800000 | N25: =M25*K25 -> 57600000
F26: 4 | G26: Tunjangan Beban Kerja KBD 6 orang | J26: ADD | K26: 72 | L26: ob | M26: 600000 | N26: =M26*K26 -> 43200000
F27: 5 | G27: Tunjangan Gaji ke 13 Sekdes | J27: ADD | K27: 1 | L27: ob | M27: 2300000 | N27: =M27*K27 -> 2300000
F28: 6 | G28: Tunjangan Gaji ke 13 Kasi, Kaur, KBD (12 org) | J28: ADD | K28: 12 | L28: ob | M28: 2025000 | N28: =M28*K28 -> 24300000
F29: 7 | G29: THR Sekdes | J29: ADD | K29: 1 | L29: ob | M29: 2300000 | N29: =M29*K29 -> 2300000
F30: 8 | G30: THR Kasi, Kaur, KBD (12 org) | J30: ADD | K30: 12 | L30: ok | M30: 2025000 | N30: =M30*K30 -> 24300000
F31: 9 | G31: TMK 0 s/d 5 tahun (8 org) | J31: ADD | K31: 96 | L31: ob | M31: 100000 | N31: =M31*K31 -> 9600000
F32: 10 | G32: TMK 5 s/d 10 tahun (1 org) | J32: ADD | K32: 12 | L32: ob | M32: 200000 | N32: =M32*K32 -> 2400000
F33: 11 | G33: TMK diatas 10 tahun (4 org) | J33: ADD | K33: =4*12 -> 48 | L33: ob | M33: 300000 | N33: =M33*K33 -> 14400000
D34: 3 | E34: Penyediaan Jaminan Sosial Perbekel dan Perangkat Desa | O34: =N35+N37+N43+N45 -> 36166221
D35: 5.1.3.01. | E35: Jaminan Kesehatan Kepala Desa | N35: =N36 -> 2442240
F36: 1 | G36: BPJS Kesehatan Perbekel | J36: ADD | K36: 12 | L36: ob | M36: 203520 | N36: =M36*K36 -> 2442240
D37: 5.1.3.02. | E37: Jaminan Kesehatan Perangkat Desa | N37: =SUM(N38:N42) -> 19537920
F38: 1 | G38: BPJS Kesehatan Sekdes | J38: ADD | K38: 12 | L38: ob | M38: 161120 | N38: =K38*M38 -> 1933440
F39: 2 | G39: BPJS Kesehatan Kaur 1 org, kasi 2 org | J39: ADD | K39: 36 | L39: ob | M39: 132500 | N39: =M39*K39 -> 4770000
F40: 3 | G40: BPJS Kesehatan kasi pemerintahan 1 org | J40: ADD | K40: 12 | L40: ob | M40: 128260 | N40: =M40*K40 -> 1539120
...

Sheet Pagu indikatif
A1: DATA PAGU INDIKATIP
A2: DESA | E2: DESA : SEKARTAJI | K2: KABUPATEN | L2: : KLUNGKUNG
A3: KECAMATAN | E3: KECAMATAN : NUSA PENIDA | K3: PROVINSI | L3: : BALI
A4: No | D4: Indikasi Program / Kegiatan Desa | F4: Sumber Dana Indikatif
F5: Dana Desa (APBN) | G5: Alokasi Dana Desa (Bagian dana perimbangan Kabupaten) | H5: Dana Bagian dari Hasil Pajak dan Retribusi | I5: Bantuan Keuangan | L5: Dll
I6: APBD Provinsi | J6: APBD Kabupaten | K6: Pendapatan Asli Desa
A8: I | C8: 1 | D8: ='DAFTAR USULAN'!C9 -> PENYELENGGARAAN PEMERINTAHAN DESA
A9: a | D9: ='DAFTAR USULAN'!E10 -> Penyelenggaraan Belanja Siltap, Tunjangan dan Operasional Pemerintahan Desa
D10: 1 | E10: ='RKP DESA'!F11 -> Penyediaan Penghasilan Tetap & Tunjangan Perbekel | G10: ='RKP DESA'!K11 -> 63600000
D11: 2 | E11: ='RKP DESA'!F12 -> Penyediaan Penghasilan Tetap & Tunjangan Perangkat Desa | G11: ='RKP DESA'!K12 -> 514000000
D12: 3 | E12: ='RKP DESA'!F13 -> Penyediaan Jaminan Sosial Perbekel dan Perangkat Desa | G12: ='RKP DESA'!K13 -> 36166221
D13: 4 | E13: ='RKP DESA'!F14 -> Penyediaan Operasional Pemerintah Desa (ATK,Honor PKPKD dan PPKD dll)) | G13: ='RKP DESA'!K14 -> 2.3509758e+08
D14: 5 | E14: ='RKP DESA'!F15 -> Penyediaan Tunjangan BPD | G14: ='RKP DESA'!K15 -> 20400000
D15: 6 | E15: ='RKP DESA'!F16 -> Penyediaan Operasional BPD (rapat,ATK,makan minum,pakaian seragam, listrik dll) | G15: ='RKP DESA'!K16 -> 33565000
A16: b | D16: ='DAFTAR USULAN'!E17 -> Penyediaan Sarana dan Prasarana Pemerintahan Desa
D17: 1 | E17: ='DAFTAR USULAN'!F18 -> Penyediaan Sarana (Aset Tetap) Perkantoran/Pemerintahan | G17: ='RABSUB.1'!O185 -> 5988000
D18: 2 | E18: ='DAFTAR USULAN'!F19 -> Pemeliharaan Gedung/Prasarana Kantor Desa | G18: ='RABSUB.1'!O189 -> 17600000
A19: c | D19: ='DAFTAR USULAN'!E20 -> Pengelolaan Administrasi Kependudukan, Pencatatan Sipil, Statistik dan Kearsipan
D20: 1 | E20: ='DAFTAR USULAN'!F21 -> Penyusunan, Pendataan, dan Pemutakhiran Profil Desa | G20: ='RKP DESA'!K21 -> 3702000
A21: d | D21: ='DAFTAR USULAN'!E22 -> Penyelenggaraan Tata Praja Pemerintahan,Perencanaan,Keuangan dan Pelaporan
D22: 1 | E22: ='DAFTAR USULAN'!F23 -> Penyelenggaraan Musyawarah Perencanaan Desa/Pembahasan APBDES (Reguler) | G22: ='RKP DESA'!K23 -> 12540000
D23: 2 | E23: ='DAFTAR USULAN'!F24 -> Penyusunan Dokumen Perencanaan Desa (RPJM Desa/RKP Desa Dll) | G23: ='RKP DESA'!K24 -> 4389000
D24: 3 | E24: ='DAFTAR USULAN'!F25 -> Penyusunan Dokumen Keuangan Desa(APBDes,APBDes Perubahan, LPJ dll) | G24: ='RKP DESA'!K25 -> 3539000
D25: 4 | E25: ='DAFTAR USULAN'!F26 -> Penyusunan Laporan Kepala Desa, LPPDesa dan Informasi Kepada masyarakat | G25: ='RKP DESA'!K26 -> 3689000
D26: 5 | E26: ='RABSUB.1'!E264 -> Dukungan dan Sosialisasi Pelaksanaan Pilkades, Pemilihan Ka Kewilayahan & BPD | G26: ='RABSUB.1'!O264 -> 50355000
E27: Jumlah Bidang I | F27: =SUM(F8:F26) -> 0 | G27: =SUM(G9:G26) -> 1.0046308e+09 | H27: =SUM(H8:H26) -> 0 | I27: =SUM(I8:I26) -> 0 | J27: =SUM(J8:J26) -> 0 | K27: =SUM(K8:K26) -> 0 | L27: =SUM(L8:L26) -> 0
A28: II | C28: 2 | D28: BIDANG PEMBANGUNAN
A29: a | D29: ='DAFTAR USULAN'!E30 -> Sub Bidang Pendidikan
D30: 1 | E30: ='DAFTAR USULAN'!F31 -> Penyelenggaraan PAUD/TK/TKA/TPQ/Madrasah Non Formal Milik Desa | F30: =sub.2!N7 -> 27070000
D31: 2 | E31: ='DAFTAR USULAN'!F32 -> Dukungan Pendidikan bagi Siswa Miskin/Berprestasi
A32: b | D32: ='DAFTAR USULAN'!E33 -> Sub Bidang Kesehatan
D33: 1 | E33: ='DAFTAR USULAN'!F34 -> Penyelenggaraan Pos Kesehatan Desa/Polides Milik Desa (Obat,Insentif,KB,dst) | F33: =sub.2!N39 -> 14150000
D34: 2 | E34: ='DAFTAR USULAN'!F35 -> Penyelenggaraan Posyandu (Mkn Tambahan,Kls Bumil,Lansia,Insentif | F34: =sub.2!N52 -> 175868600
D35: 3 | E35: ='DAFTAR USULAN'!F36 -> Penyelenggaraan Desa Siaga Kesehatan | F35: =sub.2!O73 -> 4200000 | G35: =sub.2!O85 -> 28750000 | H35: =sub.2!O88 -> 80450000
D36: 4 | E36: ='DAFTAR USULAN'!F37 -> Pengasuhan Bersama atau Bina Keluarga Balita (BKB)
D37: 5 | E37: ='DAFTAR USULAN'!F38 -> Pembangunan/Rehabilitasi/Peningkatan/Pengadaan Sarana/Prasarana Alat Posyandu | F37: =sub.2!N91 -> 18864600
D38: 6 | E38: ='DAFTAR USULAN'!F39 -> Penyelenggaraan Bina Keluarga Lansia (BKL)
A39: c | D39: ='DAFTAR USULAN'!E40 -> Sub bidang Pekerjaan Umum dan Penataan Ruang
D40: 1 | E40: ='DAFTAR USULAN'!F41 -> Kelanjutan Pembangunan/Rehabilitasi/Peningkatan Balai Desa/Balai Kemasyarakatan | H40: =sub.2!O109 -> 155024000 | L40: =sub.2!O112 -> 5520000
D41: 2 | E41: ='DAFTAR USULAN'!F42 -> Pembangunan /Rehabilitasi /Peningkatan/Pengerasan Jalan Lingkungan Pemukiman Dsn Sekartaji
...

Sheet Sheet2
A1: C ZZC
A2: sumber dana | B2: pendapatan | C2: silpa | D2: jumlah | E2: baru 2 september 2020
A3: PAD | B3: 14300000 | C3: 22261028 | D3: =B3+C3 -> 36561028 | E3: 8300000 | F3: =C3+E3 -> 30561028
A4: DLL | B4: 9599000 | C4: 9458620.2 | D4: =B4+C4 -> 19057620 | E4: =B4 -> 9599000 | F4: =C4+E4 -> 19057620
A5: BKK | B5: 97000000 | C5: 0 | D5: =B5+C5 -> 97000000 | E5: =D5 -> 97000000 | F5: =C5+E5 -> 97000000
A6: PBP | B6: 0 | C6: 54600 | D6: =B6+C6 -> 54600
A7: BHP | B7: 303063039 | C7: 40564367 | D7: =B7+C7 -> 343627406 | E7: =SUM(C11:C12) -> 192450008 | F7: =C7+E7 -> 233014375
A8: DDS | B8: 1193628000 | C8: 2.1403849e+08 | D8: =B8+C8 -> 1.4076665e+09 | E8: 1242606000 | F8: =C8+E8 -> 1.4566445e+09
A9: ADD | B9: 1051988000 | C9: 1.232377e+08 | D9: =B9+C9 -> 1.1752257e+09 | E9: 1063314000 | F9: =C9+E9 -> 1.1865517e+09
B11: BHPD | C11: 103866435
B12: BHR | C12: 88583573
B15: per 10 Desember 2020
A16: sumber dana | B16: pendapatan | C16: silpa | D16: jumlah
A17: PAD | B17: 8300400 | C17: 2000000 | D17: =B17+C17 -> 10300400
A18: DLL | B18: 8400000 | C18: 2500000 | D18: =B18+C18 -> 10900000
A19: BKK | B19: 97000000 | C19: 0 | D19: =B19+C19 -> 97000000
A20: PBP | B20: 0 | C20: 54600 | D20: =B20+C20 -> 54600
A21: BHP | B21: 192450008 | C21: 50000000 | D21: =B21+C21 -> 242450008
A22: DDS | B22: 1246606000 | C22: 150000000 | D22: =B22+C22 -> 1396606000
A23: ADD | B23: 1063314000 | C23: 150000000 | D23: =B23+C23 -> 1213314000

Sheet sub.2
C1: RENCANA ANGGARAN BIAYA KEGIATAN PEMBANGUNAN DESA
C2: DESA SEKARTAJI
B3: No. | G3: Uraian Kebutuhan | I3: Sumber | J3: Volume | K3: Satuan | L3: Harga RP. | N3: Pagu Anggaran
I4: Dana | L4: Satuan | M4: Jumlah
B5: 2 | C5: BIDANG PELAKSANAAN PEMBANGUNAN DESA | N5: =N6+N38+N100+N123+N176 -> 1387287870
C6: a | D6: Sub Bidang Pendidikan | N6: =N7 -> 27070000
C7: 1 | D7: Penyelenggaraan PAUD/TK/TKA/TPQ/Madrasah Non Formal Milik Desa | N7: =M8+M28+M36 -> 27070000
C8: 5.2.1.01. | D8: Belanja Alat Tulis Kantor dan Benda Pos | M8: =SUM(M9:M27) -> 2670000
E9: 1 | F9: Kertas | I9: DDS | J9: 2 | K9: rim | L9: 60000 | M9: =J9*L9 -> 120000
E10: 2 | F10: Buku Raport | I10: DDS | J10: 20 | K10: bh | L10: 50000 | M10: =J10*L10 -> 1000000
E11: 3 | F11: Kertas Ijazah | I11: DDS | J11: 20 | K11: bh | L11: 15000 | M11: =J11*L11 -> 300000
E12: 4 | F12: Pensil utk anak TK | I12: DDS | J12: 20 | K12: bh | L12: 4000 | M12: =J12*L12 -> 80000
E13: 5 | F13: Penghapus utk anak TK | I13: DDS | J13: 20 | K13: bh | L13: 4000 | M13: =J13*L13 -> 80000
E14: 6 | F14: Lem kertas | I14: DDS | J14: 20 | K14: bh | L14: 10000 | M14: =J14*L14 -> 200000
E15: 7 | F15: Steples | I15: DDS | J15: 2 | K15: bh | L15: 25000 | M15: =J15*L15 -> 50000
E16: 8 | F16: Isi Steples | I16: DDS | J16: 1 | K16: kotak | L16: 15000 | M16: =J16*L16 -> 15000
E17: 9 | F17: Penghapus papan tulis | I17: DDS | J17: 1 | K17: bh | L17: 10000 | M17: =J17*L17 -> 10000 | O17: =N7 -> 27070000 | P17: paud add
E18: 10 | F18: Spidol papan tulis | I18: DDS | J18: 5 | K18: buah | L18: 10000 | M18: =J18*L18 -> 50000
E19: 11 | F19: Gunting anak | I19: DDS | J19: 20 | K19: buah | L19: 7000 | M19: =J19*L19 -> 140000
E20: 12 | F20: Pensil warna/krayon | I20: DDS | J20: 5 | K20: buah | L20: 20000 | M20: =J20*L20 -> 100000
E21: 13 | F21: Stampad | I21: DDS | J21: 1 | K21: buah | L21: 20000 | M21: =J21*L21 -> 20000
E22: 14 | F22: Tinta Stampad | I22: DDS | J22: 1 | K22: buah | L22: 20000 | M22: =J22*L22 -> 20000
E23: 15 | F23: Buku gambar | I23: DDS | J23: 20 | K23: buah | L23: 5000 | M23: =J23*L23 -> 100000
E24: 16 | F24: Buku tulis anak | I24: DDS | J24: 20 | K24: buah | L24: 5000 | M24: =J24*L24 -> 100000
E25: 17 | F25: Map | I25: DDS | J25: 1 | K25: pak | L25: 35000 | M25: =J25*L25 -> 35000
E26: 18 | F26: Pulpen Guru | I26: DDS | J26: 10 | K26: buah | L26: 5000 | M26: =J26*L26 -> 50000
E27: 19 | F27: Papan Tulis | I27: DDS | J27: 1 | K27: bh | L27: 200000 | M27: =J27*L27 -> 200000 | O27: =#REF! -> #REF! | P27: penyeker dds
C28: 5.2.1.90. | D28: Belanja Pakaian Khusus/Hari-hari Tertentu/Pakaian Adat | M28: =SUM(M29:M35) -> 12400000 | O28: =N38 -> 322283200 | P28: posyandu dds
E29: 1 | F29: Seragam putih biru untuk anak TK | I29: DDS | J29: 20 | K29: stel | L29: 160000 | M29: =J29*L29 -> 3200000 | O29: =#REF! -> #REF! | P29: Gang ramuan dds
E30: 2 | F30: Seragam batik untuk anak TK | I30: DDS | J30: 20 | K30: stel | L30: 160000 | M30: =J30*L30 -> 3200000 | O30: =N176+#REF! -> #REF! | P30: air,baliho dds
E31: 3 | F31: Seragam olahraga unutk anak TK | I31: DDS | J31: 20 | K31: stel | L31: 125000 | M31: =J31*L31 -> 2500000 | O31: =N101 -> 160544000 | P31: balai desa add
E32: 4 | F32: Sepatu untuk anak TK | I32: DDS | J32: 20 | K32: pasang | L32: 100000 | M32: =J32*L32 -> 2000000 | O32: =#REF! -> #REF! | P32: dds
E33: 5 | F33: kaos kaki untuk anak TK | I33: DDS | J33: 20 | K33: pasang | L33: 25000 | M33: =J33*L33 -> 500000 | O33: dds | P33: =O27+O28+O29+O30+O32 -> #REF!
E34: 6 | F34: Dasi | I34: DDS | J34: 20 | K34: buah | L34: 25000 | M34: =J34*L34 -> 500000
E35: 7 | F35: Topi | I35: DDS | J35: 20 | K35: buah | L35: 25000 | M35: =J35*L35 -> 500000
C36: 5.2.1.91. | D36: Belanja jasa Upah Kerja (upah Kerja tukang,pekerja,dll) | M36: =SUM(M37:M37) -> 12000000 | P36: =O17+O31 -> 187614000
E37: 1 | F37: Upah Tutor / GuruTK 2 org x 12 ob | I37: DDS | J37: 24 | K37: ob | L37: 500000 | M37: =J37*L37 -> 12000000 | O37: =O29+O31+O32 -> #REF!
C38: b | D38: Sub Bidang Kesehatan | N38: =N39+N52+N73+N91 -> 322283200
C39: 1 | D39: Penyelenggaraan Pos Kesehatan Desa/Polides Milik Desa (Obat,Insentif,KB,dst) | N39: =M40+M44+M47+M49 -> 14150000
C40: 5.2.1.06. | D40: Belanja barang komsumsi (Makan dan Minum) | M40: =SUM(M41:M43) -> 3200000
...

Sheet Upah (PERBUP 15)
B1: UPAH KERJA TIM BERDASARKAN PERBUP 15 TAHUN 2015
A2: Kegiatan Pembinaan, Bimbingan, penataran, pelatihan, monitoring dan sejenisnya
A3: 1 | B3: 25000000
B4: 80000 | C4: Penanggng jawab
B5: 75000 | C5: Ketua
B6: 70000 | C6: Sekretaris
B7: 65000 | C7: Anggota
A8: 2 | B8: 25000000 | C8: s/d | D8: 50000000 | E8: 50000000
B9: 90000 | C9: Penanggng jawab
B10: 85000 | C10: Ketua
B11: 80000 | C11: Sekretaris
B12: 75000 | C12: Anggota
A13: 3 | B13: 50000000 | C13: s/d | D13: 75000000 | E13: 75000000
B14: 110000 | C14: Penanggng jawab
B15: 105000 | C15: Ketua
B16: 100000 | C16: Sekretaris
B17: 95000 | C17: Anggota
A18: 4 | B18: 75000000 | C18: s/d | D18: 100000000 | E18: 100000000
B19: 150000 | C19: Penanggng jawab
B20: 140000 | C20: Ketua
B21: 135000 | C21: Sekretaris
B22: 130000 | C22: Anggota
A23: 5 | B23: 100000000 | C23: s/d | D23: 200000000 | E23: 200000000
B24: 165000 | C24: Penanggng jawab
B25: 150000 | C25: Ketua
B26: 140000 | C26: Sekretaris
B27: 135000 | C27: Anggota
A28: 6 | B28: 200000000 | C28: keatas
B29: 170000 | C29: Penanggng jawab
B30: 155000 | C30: Ketua
B31: 150000 | C31: Sekretaris
B32: 145000 | C32: Anggota
A33: Kegiatan Pengadaan Barang/jasa
A34: 1 | B34: 25000000
B35: 80000 | C35: Penanggng jawab
B36: 75000 | C36: Ketua
B37: 70000 | C37: Sekretaris
B38: 65000 | C38: Anggota
A39: 2 | B39: 25000000 | C39: s/d | D39: 50000000 | E39: 50000000
B40: 85000 | C40: Penanggng jawab
...

Sheet Sheet1
A1: ='Pagu indikatif'!#REF!+'Pagu indikatif'!#REF! -> #REF!
A2: ='Pagu indikatif'!#REF!+'Pagu indikatif'!#REF! -> #REF!
